Workbook
Name ConsStatus: #REF!
Name ConsStatus2: #REF!
Name ConstructionStatus: [1]formulas!$H$2:$H$4
Name ConstructionStatus2: [1]formulas!$H$9:$H$12
Name ForecastAvailability: [1]formulas!$K$2:$K$5
Name GreenBrown: [1]formulas!$C$2:$C$3
Name Loss: [1]formulas!$F$2:$F$3
Name Monitor2018: #REF!
Name PlanningStat: [1]formulas!$J$2:$J$5
Name Spatial: [1]formulas!$L$2:$L$6
Name Status: #REF!
Name test: #REF!
Name test2: #REF!
Name UseClass: [1]formulas!$E$2:$E$7

Sheet 2025 Allocations
A1: Employment land Provision (1st April 2025) - Local Plan and Neighbourhood Plan allocations without planning permission
A2: Planning Status | B2: Local Plan Spatial Area | C2: Local Plan (Part Two) Employment allocation | D2: Monitoring Reference | E2: Location | F2: Area (ha) | G2: April 2025 Forecast | H2: Planning Use Class | I2: X | J2: Y
A3: NDP Allocation | B3: Rural | C3: R3 | D3: NES/0009b | E3: Clayhill 2, Buildwas Road, Neston | F3: 0.53 | G3: Year 6 | H3: E(g), B2, B8 | I3: =_xlfn.XLOOKUP(D3,'XY extract'!$A$2:$A$83,'XY extract'!$E$2:$E$83) -> 329231 | J3: =_xlfn.XLOOKUP(D3,'XY extract'!$A$2:$A$83,'XY extract'!$F$2:$F$83) -> 378551
A4: NDP Allocation | B4: Rural | C4: R3 | D4: NES/0010a | E4: Clayhill 3, Long Acres Road, Neston | F4: 0.92 | G4: Year 6 | H4: E(g), B2, B8 | I4: =_xlfn.XLOOKUP(D4,'XY extract'!$A$2:$A$83,'XY extract'!$E$2:$E$83) -> 329208 | J4: =_xlfn.XLOOKUP(D4,'XY extract'!$A$2:$A$83,'XY extract'!$F$2:$F$83) -> 378656
A5: NDP Allocation | B5: Rural | C5: R3 | D5: NES/0011 | E5: Clayhill 4, Long Acres Road, Neston (remaining area) | F5: 0.54 | G5: Year 6 | H5: E(g), B2, B8 | I5: =_xlfn.XLOOKUP(D5,'XY extract'!$A$2:$A$83,'XY extract'!$E$2:$E$83) -> 329045 | J5: =_xlfn.XLOOKUP(D5,'XY extract'!$A$2:$A$83,'XY extract'!$F$2:$F$83) -> 378580
A6: NDP Allocation | B6: Rural | C6: R3 | D6: NES/0012 | E6: Morgans Land, Water Tower Road, Neston | F6: 0.57 | G6: Year 6 | H6: E(g), B2, B8 | I6: =_xlfn.XLOOKUP(D6,'XY extract'!$A$2:$A$83,'XY extract'!$E$2:$E$83) -> 329249 | J6: =_xlfn.XLOOKUP(D6,'XY extract'!$A$2:$A$83,'XY extract'!$F$2:$F$83) -> 378442
A7: NDP Allocation | B7: Rural | C7: R3 | D7: NES/0009a | E7: Land at Long Acres, Neston | F7: 0.53 | G7: Year 6 | H7: E(g), B2, B8 | I7: =_xlfn.XLOOKUP(D7,'XY extract'!$A$2:$A$83,'XY extract'!$E$2:$E$83) -> 329219 | J7: =_xlfn.XLOOKUP(D7,'XY extract'!$A$2:$A$83,'XY extract'!$F$2:$F$83) -> 378607
A8: NDP Allocation | B8: Winsford | C8: W2 | D8: WIW/0012e | E8: Plot 1A - Land West Road One, Winsford | F8: 0.19 | G8: Year 5 | H8: E(g), B2, B8 | I8: =_xlfn.XLOOKUP(D8,'XY extract'!$A$2:$A$83,'XY extract'!$E$2:$E$83) -> 366797 | J8: =_xlfn.XLOOKUP(D8,'XY extract'!$A$2:$A$83,'XY extract'!$F$2:$F$83) -> 367825
A9: NDP Allocation | B9: Winsford | C9: W2 | D9: WIW/0012h | E9: Plot 4 - Land West Road One, Winsford (Phase 5 Plot 4 / Site 1, 2, 3) | F9: 0.73 | G9: Year 4 | H9: E(g), B2, B8 | I9: =_xlfn.XLOOKUP(D9,'XY extract'!$A$2:$A$83,'XY extract'!$E$2:$E$83) -> 366701 | J9: =_xlfn.XLOOKUP(D9,'XY extract'!$A$2:$A$83,'XY extract'!$F$2:$F$83) -> 367781
A10: NDP Allocation | B10: Winsford | C10: W2 | D10: WIW/0022e | E10: Land East Road One, Winsford - Plot 2B (phase 9) | F10: 1.31 | G10: Year 4 | H10: E(g), B2, B8 | I10: =_xlfn.XLOOKUP(D10,'XY extract'!$A$2:$A$83,'XY extract'!$E$2:$E$83) -> 367110 | J10: =_xlfn.XLOOKUP(D10,'XY extract'!$A$2:$A$83,'XY extract'!$F$2:$F$83) -> 367266
A11: NDP Allocation | B11: Winsford | C11: W2 | D11: WIW/0022f | E11: Land East Road One, Winsford - Plot 2C (phase 9) | F11: 2.9 | G11: Year 4 | H11: E(g), B2, B8 | I11: =_xlfn.XLOOKUP(D11,'XY extract'!$A$2:$A$83,'XY extract'!$E$2:$E$83) -> 367243 | J11: =_xlfn.XLOOKUP(D11,'XY extract'!$A$2:$A$83,'XY extract'!$F$2:$F$83) -> 367314
A12: NDP Allocation | B12: Winsford | C12: W2 | D12: WIW/0022a | E12: Extension to Winsford 1-5 Industrial Estate (policy allocation W7 Winsford Neighbourhood Plan) REMAINING AREA | F12: 7.2 | G12: Year 5 | H12: E(g), B2, B8 | I12: =_xlfn.XLOOKUP(D12,'XY extract'!$A$2:$A$83,'XY extract'!$E$2:$E$83) -> 367040 | J12: =_xlfn.XLOOKUP(D12,'XY extract'!$A$2:$A$83,'XY extract'!$F$2:$F$83) -> 367872
A13: NDP Allocation | B13: Winsford | C13: W2 | D13: WOV/0044 | E13: Land to the west of Oakmere Road (policy O5 Winsford Neighbourhood Plan) | F13: 5.9 | G13: Year 8 | H13: E(g), B2, B8 | I13: 362678 | J13: 366180
A14: Part Two Allocation | B14: Chester | C14: CH2, CH3.B | D14: CHG/0267a | E14: Land At Premier House Charterhall Drive Chester Cheshire (Chester business quarter - outline area ) | F14: 1.1 | G14: Year 6 | H14: E(g) | I14: =_xlfn.XLOOKUP(D14,'XY extract'!$A$2:$A$83,'XY extract'!$E$2:$E$83) -> 341536 | J14: =_xlfn.XLOOKUP(D14,'XY extract'!$A$2:$A$83,'XY extract'!$F$2:$F$83) -> 366773
A15: Part Two Allocation | B15: Chester | C15: CH3.A | D15: CHH/0076 | E15: Chester Business Park - Land North South and East of Chester Business Park Herons Way Chester (remaining outline area) | F15: 1.75 | G15: Year 5 | H15: E(g)(i) | I15: =_xlfn.XLOOKUP(D15,'XY extract'!$A$2:$A$83,'XY extract'!$E$2:$E$83) -> 339627 | J15: =_xlfn.XLOOKUP(D15,'XY extract'!$A$2:$A$83,'XY extract'!$F$2:$F$83) -> 363081
A16: Part Two Allocation | B16: Chester | C16: CH3.A | D16: CHH/0076a | E16: Chester Business Park - Land North South and East of Chester Business Park Herons Way Chester (reserved matters) | F16: 0.95 | G16: Year 5 | H16: E(g)(i) | I16: 339666 | J16: 363074
A17: Part Two Allocation | B17: Chester | C17: CH3.D | D17: CHG/0028 | E17: Part of NE Urban Action Area - Hoole Lane, Boughton | F17: 0.65 | G17: Year 6 | H17: E(g) | I17: =_xlfn.XLOOKUP(D17,'XY extract'!$A$2:$A$83,'XY extract'!$E$2:$E$83) -> 341642 | J17: =_xlfn.XLOOKUP(D17,'XY extract'!$A$2:$A$83,'XY extract'!$F$2:$F$83) -> 366686
A18: Part Two Allocation | B18: Chester | C18: CH3.E | D18: CHG/0090 | E18: Garden Lane, Chester (allocation CH3.E) | F18: 0.32 | G18: Year 8 | H18: E(g) | I18: =_xlfn.XLOOKUP(D18,'XY extract'!$A$2:$A$83,'XY extract'!$E$2:$E$83) -> 340298 | J18: =_xlfn.XLOOKUP(D18,'XY extract'!$A$2:$A$83,'XY extract'!$F$2:$F$83) -> 366805
A19: Part Two Allocation | B19: Chester | C19: CH3.G | D19: CHG/0301 | E19: Old Port (Southern Tail, Crane Street frontage) - (employment) - Chester Racecourse scheme, land off New Crane St | F19: 1.5 | G19: Year 4 | H19: E(g) | I19: =_xlfn.XLOOKUP(D19,'XY extract'!$A$2:$A$83,'XY extract'!$E$2:$E$83) -> 339887 | J19: =_xlfn.XLOOKUP(D19,'XY extract'!$A$2:$A$83,'XY extract'!$F$2:$F$83) -> 366277
A20: Part Two Allocation | B20: Ellesmere Port | C20: EP2.A | D20: GOR/0104 | E20: Encirc Glass Ltd Ash Road Elton Chester CH2 4LF | F20: 20.54 | G20: Year 5 | H20: E(g), B2, B8 | I20: =_xlfn.XLOOKUP(D20,'XY extract'!$A$2:$A$83,'XY extract'!$E$2:$E$83) -> 346247 | J20: =_xlfn.XLOOKUP(D20,'XY extract'!$A$2:$A$83,'XY extract'!$F$2:$F$83) -> 376012
A21: Part Two Allocation | B21: Ellesmere Port | C21: EP2.A | D21: GOR/0104c | E21: Encirc Glass Lts, Ash Road, Elton - remaining area | F21: 9.2 | G21: Year 5 | H21: E(g), B2, B8 | I21: =_xlfn.XLOOKUP(D21,'XY extract'!$A$2:$A$83,'XY extract'!$E$2:$E$83) -> 346180 | J21: =_xlfn.XLOOKUP(D21,'XY extract'!$A$2:$A$83,'XY extract'!$F$2:$F$83) -> 376333
A22: Part Two Allocation | B22: Ellesmere Port | C22: EP2.B | D22: GOR/0136 | E22: Rushtons, New Bridge Rd, Ellesmere Port | F22: 0.88 | G22: Year 7 | H22: E(g), B2, B8 | I22: =_xlfn.XLOOKUP(D22,'XY extract'!$A$2:$A$83,'XY extract'!$E$2:$E$83) -> 341737 | J22: =_xlfn.XLOOKUP(D22,'XY extract'!$A$2:$A$83,'XY extract'!$F$2:$F$83) -> 375149
A23: Part Two Allocation | B23: Ellesmere Port | C23: EP2.B | D23: GOR/0160 | E23: Cloister Way 1, off New Bridge Road, Ellesmere Port | F23: 0.97 | G23: Year 6 | H23: E(g), B2, B8 | I23: =_xlfn.XLOOKUP(D23,'XY extract'!$A$2:$A$83,'XY extract'!$E$2:$E$83) -> 341497 | J23: =_xlfn.XLOOKUP(D23,'XY extract'!$A$2:$A$83,'XY extract'!$F$2:$F$83) -> 376150
A24: Part Two Allocation | B24: Ellesmere Port | C24: EP2.B | D24: GOR/0205c | E24: Newport Business Park (remaining area) | F24: 0 | G24: Year 11 | H24: E(g), B2, B8 | I24: =_xlfn.XLOOKUP(D24,'XY extract'!$A$2:$A$83,'XY extract'!$E$2:$E$83) -> 341650 | J24: =_xlfn.XLOOKUP(D24,'XY extract'!$A$2:$A$83,'XY extract'!$F$2:$F$83) -> 375348
A25: Part Two Allocation | B25: Ellesmere Port | C25: EP2.G | D25: GOR/0102 | E25: Station Road Ince (Old Camp Site) | F25: 5.42 | G25: Year 8 | H25: E(g) | I25: =_xlfn.XLOOKUP(D25,'XY extract'!$A$2:$A$83,'XY extract'!$E$2:$E$83) -> 345210 | J25: =_xlfn.XLOOKUP(D25,'XY extract'!$A$2:$A$83,'XY extract'!$F$2:$F$83) -> 375978
A26: Part Two Allocation | B26: Ellesmere Port | C26: EP2.H | D26: GOR/0159 | E26: Land off Stanney Mill Lane (north) Ellesmere Port | F26: 0.5 | G26: Year 7 | H26: E(g), B2, B8 | I26: =_xlfn.XLOOKUP(D26,'XY extract'!$A$2:$A$83,'XY extract'!$E$2:$E$83) -> 341649 | J26: =_xlfn.XLOOKUP(D26,'XY extract'!$A$2:$A$83,'XY extract'!$F$2:$F$83) -> 374833
A27: Part Two Allocation | B27: Ellesmere Port | C27: EP4 | D27: NET/0007b | E27: Land Adjacent to Vauxhalls, North Road, Ellesmere Port | F27: 0 | G27: Year 15 | H27: E(g), B2, B8 | I27: =_xlfn.XLOOKUP(D27,'XY extract'!$A$2:$A$83,'XY extract'!$E$2:$E$83) -> 337915 | J27: =_xlfn.XLOOKUP(D27,'XY extract'!$A$2:$A$83,'XY extract'!$F$2:$F$83) -> 378277
A28: Part Two Allocation | B28: Northwich | C28: N4.A | D28: MAR/0049 | E28: Land at Chapel Street, Wincham | F28: 16 | G28: Year 7 | H28: E(g), B2, B8 | I28: =_xlfn.XLOOKUP(D28,'XY extract'!$A$2:$A$83,'XY extract'!$E$2:$E$83) -> 367642 | J28: =_xlfn.XLOOKUP(D28,'XY extract'!$A$2:$A$83,'XY extract'!$F$2:$F$83) -> 374965
... A38: Part Two Allocation | B38: Ellesmere Port | C38: EP2.E | D38: WHI/0009a | E38: Cheshire Oaks Area 5C (West), Lloyd Drive, Ellesmere Port | F38: 0.47 | G38: Year 4 | H38: E(g) | I38: =_xlfn.XLOOKUP(D38,'XY extract'!$A$2:$A$83,'XY extract'!$E$2:$E$83) -> 340416 | J38: =_xlfn.XLOOKUP(D38,'XY extract'!$A$2:$A$83,'XY extract'!$F$2:$F$83) -> 374022
A39: Total Local Plan and Neighbourhood Plan Allocations without permission | F39: 116.84

Sheet 2025 EmpPermission
A1: Employment land Provision (1st April 2025) - Sites with planning permission for employment use
A2: Monitoring Reference | B2: Planning Status | C2: Local Plan Spatial Area | D2: Local Plan (Part Two) Employment allocation | E2: Location | F2: April 2025 Forecast | G2: Area (ha) | H2: Overall floorspace (sqm) | I2: Planning application reference | J2: Planning application - Proposed development | K2: Indicative planning use class | L2: X | M2: Y
A3: GOR/0108d | B3: Allocation, with pp | C3: Ellesmere Port | D3: EP3 | E3: Stanlow Refinery Oil Sites Road Ellesmere Port CH65 4BD | F3: Year 1 | G3: 0.2 | H3: 603 | I3: 20/02976/FUL | J3: Single storey pitched roof office, research & amenity building | K3: E(g)(iii) | L3: =_xlfn.XLOOKUP(A3,'XY extract'!$A$2:$A$83,'XY extract'!$E$2:$E$83) -> 343478 | M3: =_xlfn.XLOOKUP(A3,'XY extract'!$A$2:$A$83,'XY extract'!$F$2:$F$83) -> 376317
A4: GOR/0214 | B4: Allocation, with pp | C4: Ellesmere Port | E4: Land West of Chapterhouse Close Ellesmere Port | F4: Year 2 | G4: 1.21 | H4: 4710 | I4: 22/02880/FUL | J4: Erection of a building to be used in any combination of Use Class E(g)(ii)(iii) (research and development, light industrial), Class B2 (general industrial) or Class B8 (storage / distribution), with ancillary office element (Class E(g)(i)), to include service yard, parking for cars, motorcycles, cycles and trailers, refuse storage, with associated hard and soft landscaping (including means of enclosure), all to be accessed via a new gated vehicular / pedestrian access via a new spur connecting to existing access onto Chapterhouse Close. | K4: E(g), B2, B8 | L4: 341186 | M4: 376234
A5: NES/0008 | B5: NDP Allocation, with pp | C5: Rural | D5: R3 | E5: Unit 3 Rovert House Water Tower Road Neston CH64 3US | F5: Year 2 | G5: 0.9 | H5: 1880 | I5: 23/03642/FUL | J5: Proposed developing of land to planning use class B2 general industrial and class B8 storage or distribution with ancillary office space and car parking | K5: B2, B8 | L5: =_xlfn.XLOOKUP(A5,'XY extract'!$A$2:$A$83,'XY extract'!$E$2:$E$83) -> 329342 | M5: =_xlfn.XLOOKUP(A5,'XY extract'!$A$2:$A$83,'XY extract'!$F$2:$F$83) -> 378365
A6: WIW/0022g | B6: NDP Allocation, with pp | C6: Winsford | D6: R3 | E6: Land East Road One, Winsford - Plot 2A (phase 9) - Land At Junction of Bostock Road Road One Winsford | F6: Year 4 | G6: 1.67 | H6: 0 | I6: 23/01123/FUL | J6: Change of use of vacant land to construct additional parking area for trailer storage | K6: B8 | L6: =_xlfn.XLOOKUP(A6,'XY extract'!$A$2:$A$83,'XY extract'!$E$2:$E$83) -> 367049 | M6: =_xlfn.XLOOKUP(A6,'XY extract'!$A$2:$A$83,'XY extract'!$F$2:$F$83) -> 367373
A7: WIW/0012g | B7: NDP Allocation, with pp | C7: Winsford | D7: R3 | E7: Plot 3 - Land West Road One, Winsford Units 1-6 (Phase 4A, Site 1, Plot 3B) | F7: Year 2 | G7: 0.84 | H7: 0 | I7: 18/01850/FUL 19/03722/NMA 21/04943/NMA 22/00204/REM 22/02923/NMA 22/04015/NMA 23/01581/NMA | J7: Reserved Matters application for the erection of flexible units for business generation, self-storage, workshops and start up units, storage and distribution and trade counters (Class E(g), B2, B8) following outline approval under 18/01850/FUL | K7: E(g), B2, B8 | L7: =_xlfn.XLOOKUP(A7,'XY extract'!$A$2:$A$83,'XY extract'!$E$2:$E$83) -> 366597 | M7: =_xlfn.XLOOKUP(A7,'XY extract'!$A$2:$A$83,'XY extract'!$F$2:$F$83) -> 367831
A8: GOR/0138c | B8: Part Two Allocation, with pp | C8: Ellesmere Port | D8: EP2.B | E8: Progroup Ltd (former Cabot Carbon) Phase 4, New Bridge Road, Ellesmere Port | F8: Year 3 | G8: 5 | H8: 16000 | I8: 17/02481/OUT 17/01909/FUL | J8: Hybrid application for the construction of a manufacturing facility with associated accesses, parking, landscaping and ancillary structures (in detail) and erection of a second manufacturing building (phase 2) in outline Erection of 2 manufacturing buildings (phase 2) with production areas, offices, high bay warehouse, vehicle loading building with associated parking hardstanding, landscaping, vehicle link to Phase 1 and construction of Conveyor bridge link to phase 1 (Following 17/04443/S73) | K8: E(g), B2, B8 | L8: =_xlfn.XLOOKUP(A8,'XY extract'!$A$2:$A$83,'XY extract'!$E$2:$E$83) -> 341412 | M8: =_xlfn.XLOOKUP(A8,'XY extract'!$A$2:$A$83,'XY extract'!$F$2:$F$83) -> 375703
A9: NET/0014a | B9: Part Two Allocation, with pp | C9: Ellesmere Port | D9: EP2.C | E9: Former Booston Oil Depot | F9: Year 1 | G9: 2.13 | H9: 6060 | I9: 20/04850/OUT | J9: Hybrid Planning Application for a gas engine electricity generating plant with a maximum generating capacity of 22.5MWe and Units for B2/B8 General Industrial / Storage and Distribution uses | K9: E(g), B2, B8 | L9: 338310 | M9: 379061
A10: GOR/0200 (Phase1 and 2 combined) | B10: Part Two Allocation, with pp | C10: Ellesmere Port | D10: EP6 | E10: Ince Park / Protos - combined all phases | F10: Year 7 | G10: 9.22 | H10: 30159 | I10: Various | J10: Resource Recovery Park (Energy from Waste facility covered under separate Electricity Act consent on part of the site) | K10: B2 | L10: 346531 | M10: 376451
A11: NOW/0020 | B11: Part Two Allocation, with pp | C11: Northwich | D11: N4.D | E11: Land on Denton Drive Industrial Estate | F11: Year 1 | G11: 0.6 | H11: 2403 | I11: 21/03810/FUL | J11: Erection of Light Industrial/Industrial/Storage and Distribution buildings with associated vehicular access and parking | K11: E(g), B2, B8 | L11: =_xlfn.XLOOKUP(A11,'XY extract'!$A$2:$A$83,'XY extract'!$E$2:$E$83) -> 367171 | M11: =_xlfn.XLOOKUP(A11,'XY extract'!$A$2:$A$83,'XY extract'!$F$2:$F$83) -> 374528
A12: SAM/0040 | B12: Part Two Allocation, with pp | C12: Rural | D12: No | E12: Urenco UK Ltd Capenhurst Lane Capenhurst Chester Cheshire CH1 6ER | F12: n/a | G12: 0 | H12: 7338 | I12: 12/00552/FUL | J12: Proposed Extension To Existing Process Facility E23D, E And G, Modifications To Existing Building B751 And Construction Of New Water Treatment Building | K12: n/a | L12: =_xlfn.XLOOKUP(A12,'XY extract'!$A$2:$A$83,'XY extract'!$E$2:$E$83) -> 336282 | M12: =_xlfn.XLOOKUP(A12,'XY extract'!$A$2:$A$83,'XY extract'!$F$2:$F$83) -> 375077
A13: FAR/0034a | B13: Part Two Allocation, with pp | C13: Rural | D13: R3.A | E13: Extension to Monument Place, Farndon | F13: Year 3 | G13: 0.95 | H13: 1400 | I13: 23/00863/FUL | J13: Erection of building comprising of Class E (g) (ii) and (iii) floor area with associated parking, service yard turning circle, pedestrian links, bike and bin storage, and landscaping (including a drainage mound) | K13: E(g), B2 | L13: 341326 | M13: 355377
A14: BLA/0113 | B14: Windfall | C14: Chester | E14: !Audacious Church Sovereign Way Chester CH1 4QJ | F14: Year 2 | G14: 0.36 | H14: 865 | I14: 24/00957/FUL | J14: Change of use from a place of worship to a depot and storage facility with ancillary office space (Use Class B8) and associated car parking. Alterations to south-western and south eastern elevations of the building. | K14: B8 | L14: =_xlfn.XLOOKUP(A14,'XY extract'!$A$2:$A$83,'XY extract'!$E$2:$E$83) -> 338302 | M14: =_xlfn.XLOOKUP(A14,'XY extract'!$A$2:$A$83,'XY extract'!$F$2:$F$83) -> 366634
A15: BLA/0132 | B15: Windfall | C15: Chester | E15: Unit 3 and 4 9 - 21 Hartford Way Chester CH1 4NT | F15: n/a | G15: 0 | H15: 877 | I15: 21/01527/FUL | J15: Change of use of former industrial building to comprise a recording studio with ancillary event space | K15: E(g) | L15: 339071 | M15: 366546
A16: BLA/0143 | B16: Windfall | C16: Chester | E16: Unit 8 Hartford Way Chester CH1 4NT | F16: Year 2 | G16: 0.19 | H16: 826 | I16: 23/03675/FUL | J16: Alteration to the use classification to B2 General industrial, B8 Storage or distribution E(g) Uses which can be carried out in a residential area without detriment to its amenity: E(g)(i) Offices to carry out any operational or administrative functions, E(g)(ii) Research and development of products or processes, E(g)(iii) Industrial processes | K16: E(g), B2, B8 | L16: =_xlfn.XLOOKUP(A16,'XY extract'!$A$2:$A$83,'XY extract'!$E$2:$E$83) -> 339117 | M16: =_xlfn.XLOOKUP(A16,'XY extract'!$A$2:$A$83,'XY extract'!$F$2:$F$83) -> 366688
A17: CHG/0098 | B17: Windfall | C17: Chester | E17: Mecca Bingo Hall Brookdale Place Chester CH1 3DY | F17: Year 2 | G17: 0.07 | H17: 748 | I17: 23/03823/FUL 25/00162/NMA | J17: Partial demolition of existing bingo hall and proposed erection of hotel (Use Class C1) and accompanying office space (Use Class E(g)(i) with associated access, parking and landscaping | K17: E(g)(i) | L17: =_xlfn.XLOOKUP(A17,'XY extract'!$A$2:$A$83,'XY extract'!$E$2:$E$83) -> 340867 | M17: =_xlfn.XLOOKUP(A17,'XY extract'!$A$2:$A$83,'XY extract'!$F$2:$F$83) -> 366664
A18: GOR/0258 | B18: Windfall | C18: Ellesmere Port | E18: Stanlow Manufacturing Complex PO Box 3 Ellesmere Port CH65 4HB | F18: Year 1 | G18: 29 | H18: 42600 | I18: 21/04091/FUL | J18: Hybrid (full and outline) planning application for a hydrogen production plant, storage and distribution facility comprising full planning permission for the demolition of existing structures and erection of facilities including a Flare Stack, Phase 1 Process Area (containing main combustion plant), Natural Gas Let-down Area and Pipeline Reception Area for Phase 1 and Phase 2, and Pipe Racks, Utilities Area, new site access and internal access roads including new Gate House and Weighbridge Shelter, Surface Water Drainage System, landscaping and other associated infrastructure, and outline planning permission (matters of appearance, layout and scale reserved) for a Phase 2 Process Area, and Phase 1 and Phase 2 Air Separation Units, Oxygen and Nitrogen Storage Tanks, and other associated infrastructure Natural Gas Let-down Area for Phase 1 and Phase 2 | K18: Sui generis, B2 | L18: =_xlfn.XLOOKUP(A18,'XY extract'!$A$2:$A$83,'XY extract'!$E$2:$E$83) -> 344677 | M18: =_xlfn.XLOOKUP(A18,'XY extract'!$A$2:$A$83,'XY extract'!$F$2:$F$83) -> 375211
A19: MAR/0053 | B19: Windfall | C19: Northwich | E19: Land Rear Of Swan House Wincham Lane Wincham Northwich Cheshire (Phase 2a, 2b and 3) | F19: Year 7 | G19: 1.37 | H19: 6832.72 | I19: 13/00470/FUL 14/00270/NMA 16/01195/S73 | J19: Phased B1, B2 And B8 Development To Include New Production/Storage Facility And Company Head Offices. | K19: E(g), B2, B8 | L19: =_xlfn.XLOOKUP(A19,'XY extract'!$A$2:$A$83,'XY extract'!$E$2:$E$83) -> 367652 | M19: =_xlfn.XLOOKUP(A19,'XY extract'!$A$2:$A$83,'XY extract'!$F$2:$F$83) -> 375465
A20: MAR/0164 | B20: Windfall | C20: Northwich | E20: New Cheshire Business Park, Wincham Lane, Wincham, Northwich | F20: Year 1 | G20: 0.26 | H20: 300 | I20: 22/01390/OUT | J20: Erection of three two-storey detached hybrid business units, comprising ground floor workshop/storage accommodation with first floor offices and ancillary accommodation over. | K20: E(g) | L20: =_xlfn.XLOOKUP(A20,'XY extract'!$A$2:$A$83,'XY extract'!$E$2:$E$83) -> 367844 | M20: =_xlfn.XLOOKUP(A20,'XY extract'!$A$2:$A$83,'XY extract'!$F$2:$F$83) -> 375476
A21: NOW/0027b | B21: Windfall | C21: Northwich | E21: Land Off Station Road and Leicester Street Northwich Cheshire - Business units | F21: Year 1 | G21: 0.27 | H21: 278 | I21: 22/03738/FUL 24/01409/NMA 24/01790/S73 24/02567/FUL | J21: Erection of a coffee shop with drive thru facility, erection of a restaurant with drive thru facility, three business/industrial units (Use Class E(g)(iii)/B2/B8(including Class B8 trade counters), new access, parking provision, landscaping and other associated works including the demolition of buildings and change of use of existing building to commercial, business and service (Class E) use | K21: E(g)(iii), B2, B8 | L21: =_xlfn.XLOOKUP(A21,'XY extract'!$A$2:$A$83,'XY extract'!$E$2:$E$83) -> 366463 | M21: =_xlfn.XLOOKUP(A21,'XY extract'!$A$2:$A$83,'XY extract'!$F$2:$F$83) -> 374095
A22: NOW/0079a | B22: Windfall | C22: Northwich | E22: Unit 1 To 2 Chester Way Retail Park Chester Way Northwich CW9 5JF | F22: Year 4 | G22: 0.5 | H22: 1135 | I22: 22/01332/FUL | J22: Extension to an existing self storage facility under B8 use class and associated hardscaping reconfiguration | K22: B8 | L22: =_xlfn.XLOOKUP(A22,'XY extract'!$A$2:$A$83,'XY extract'!$E$2:$E$83) -> 366352 | M22: =_xlfn.XLOOKUP(A22,'XY extract'!$A$2:$A$83,'XY extract'!$F$2:$F$83) -> 373892
A23: NWC/0057b | B23: Windfall | C23: Northwich | E23: Units 1-2 - Land At Winnington Lane Northwich | F23: Year 1 | G23: 0.12 | H23: 428 | I23: 21/02236/FUL | J23: Construction of 6 industrial units and associated hardstanding /parking | K23: E(g), B2, B8 | L23: =_xlfn.XLOOKUP(A23,'XY extract'!$A$2:$A$83,'XY extract'!$E$2:$E$83) -> 364472 | M23: =_xlfn.XLOOKUP(A23,'XY extract'!$A$2:$A$83,'XY extract'!$F$2:$F$83) -> 374673
A24: MAR/0052c MAR/0052b | B24: Windfall | C24: Northwich | E24: Thor Specialities UK Limited Wincham Avenue Wincham Northwich Cheshire CW9 6GB | F24: Year 2 | G24: 0.43 | H24: 917 | I24: 23/00217/FUL | J24: Erection of a new amenity building with an air source heat pump (ASHP) compound, new packaging yard, erection of a new garage identified as Forklift Garage, a new external maintenance staircase, roof access walkway and vehicle access link associated with Warehouse 2 and Warehouse 3 (approved in 2013 under application reference 12/03246/FUL) | K24: B2 | L24: 368108 | M24: 374920
A25: NWC/0029b | B25: Windfall | C25: Northwich | E25: Natrium House Winnington Lane Northwich | F25: Year 2 | G25: 9.25 | H25: 13621 | I25: 21/02286/FUL | J25: Erection of a new Sodium Bicarbonate Manufacturing Facility (new Ecokarb Plant) and the demolition of an existing Sodium Bicarbonate Production Plant; Wetside building; and associated buildings, structures and other infrastructure | K25: B2 | L25: =_xlfn.XLOOKUP(A25,'XY extract'!$A$2:$A$83,'XY extract'!$E$2:$E$83) -> 364507 | M25: =_xlfn.XLOOKUP(A25,'XY extract'!$A$2:$A$83,'XY extract'!$F$2:$F$83) -> 374555
A26: CHH/0138a | B26: Windfall | C26: Rural | E26: Dodleston Manor Dodleston Lane Pulford Chester CH4 9DS | F26: Year 3 | G26: 0.12 | H26: 1237 | I26: 23/01105/FUL | J26: Change of use of outbuilding from agricultural use to general industrial/storage space (use classes B2 and B8) | K26: B2/B8 | L26: =_xlfn.XLOOKUP(A26,'XY extract'!$A$2:$A$83,'XY extract'!$E$2:$E$83) -> 336681 | M26: =_xlfn.XLOOKUP(A26,'XY extract'!$A$2:$A$83,'XY extract'!$F$2:$F$83) -> 360274
A27: CHH/0138c | B27: Windfall | C27: Rural | E27: Dodleston Manor Farm Dodleston Lane Pulford Chester CH4 9DS | F27: Year 2 | G27: 0.05 | H27: 558 | I27: 24/02401/PDR | J27: Conversion of outbuilding from agricultural use to a flexible use within Commercial/Business/Service (Class E) | K27: E(g) | L27: =_xlfn.XLOOKUP(A27,'XY extract'!$A$2:$A$83,'XY extract'!$E$2:$E$83) -> 336630 | M27: =_xlfn.XLOOKUP(A27,'XY extract'!$A$2:$A$83,'XY extract'!$F$2:$F$83) -> 360152
A28: MAL/0056 | B28: Windfall | C28: Rural | E28: Adjacent Hampton Heath Industrial Estate. OS Field No 5412 Edge | F28: n/a | G28: 0 | H28: 4365 | I28: 08/00580/FUL 11/03151/EXT | J28: Proposed offices, training and welfare buildings, storage shed (plant and Machinery), industrial processes buildings, associated access roads, vehicle parking, landscaping and foul and surface | K28: E(g), B2, B8 | L28: =_xlfn.XLOOKUP(A28,'XY extract'!$A$2:$A$83,'XY extract'!$E$2:$E$83) -> 349558 | M28: =_xlfn.XLOOKUP(A28,'XY extract'!$A$2:$A$83,'XY extract'!$F$2:$F$83) -> 349120
A29: MAL/0141 | B29: Windfall | C29: Rural | E29: Barhill Farm Barhill Drive Malpas Cheshire SY13 4QU | F29: Year 1 | G29: 2 | H29: 1105 | I29: 22/02128/REM 18/02063/OUT | J29: Reserved matters application of appearance, landscaping, layout and scale for light industrial development approved under 18/02063/OUT Outline planning permission with all matters reserved for the partial demolition and re-development of former research & development complex (Use Class B1.b) to create new offices (Use Class B1.a) with associated car parking, landscaping and other ancillary works | K29: E(g)(i) | L29: =_xlfn.XLOOKUP(A29,'XY extract'!$A$2:$A$83,'XY extract'!$E$2:$E$83) -> 352389 | M29: =_xlfn.XLOOKUP(A29,'XY extract'!$A$2:$A$83,'XY extract'!$F$2:$F$83) -> 346755
A30: MAL/0167 | B30: Windfall | C30: Rural | E30: Parkfield Millmoor Drive Macefen Malpas Cheshire SY14 8DY | F30: Year 1 | G30: 0.26 | H30: 675 | I30: 22/02741/FUL | J30: Erection of a processing building for egg products with associated hardstanding and landscaping | K30: B2 | L30: =_xlfn.XLOOKUP(A30,'XY extract'!$A$2:$A$83,'XY extract'!$E$2:$E$83) -> 351534 | M30: =_xlfn.XLOOKUP(A30,'XY extract'!$A$2:$A$83,'XY extract'!$F$2:$F$83) -> 347548
A31: SAN/0154 | B31: Windfall | C31: Rural | E31: Mouldsworth Hall Smithy Lane Mouldsworth Chester CH3 8AR | F31: Year 2 | G31: 0.4 | H31: 1620 | I31: 23/02978/FUL | J31: Erection of a portal-framed building for use for B8 purposes in connection with existing document storage operation, with access, landscaping and associated ancillary works | K31: B8 | L31: =_xlfn.XLOOKUP(A31,'XY extract'!$A$2:$A$83,'XY extract'!$E$2:$E$83) -> 350233 | M31: =_xlfn.XLOOKUP(A31,'XY extract'!$A$2:$A$83,'XY extract'!$F$2:$F$83) -> 370843
A32: SHA/0091 | B32: Windfall | C32: Rural | E32: Holford Gas Storage Byley Lane Byley Northwich CW10 9NL | F32: Year 2 | G32: 0.45 | H32: 756 | I32: 24/00555/FUL | J32: Removal of existing project office block, erection of new office building and warehouse (temporary for 15 years) | K32: E(g)(i) | L32: =_xlfn.XLOOKUP(A32,'XY extract'!$A$2:$A$83,'XY extract'!$E$2:$E$83) -> 372801 | M32: =_xlfn.XLOOKUP(A32,'XY extract'!$A$2:$A$83,'XY extract'!$F$2:$F$83) -> 370038
A33: SHA/0125 | B33: Windfall | C33: Rural | E33: Twin Acres Hulme Hall Lane Allostock Northwich WA16 9JN | F33: Year 1 | G33: 1.6 | H33: 4083 | I33: 22/02576/FUL | J33: Change of use of an existing mixed-use site to a commercial use associated with a forestry business | K33: Mixed | L33: =_xlfn.XLOOKUP(A33,'XY extract'!$A$2:$A$83,'XY extract'!$E$2:$E$83) -> 372915 | M33: =_xlfn.XLOOKUP(A33,'XY extract'!$A$2:$A$83,'XY extract'!$F$2:$F$83) -> 371992
A34: SHA/0130 | B34: Windfall | C34: Rural | E34: CRJ Services Ltd Compost Recycling Plant Brook House Farm London Road Allostock Northwich WA16 9LU | F34: Year 1 | G34: 0.92 | H34: 2208 | I34: 23/03898/FUL | J34: Change of Use of land and buildings to B2/B8 use in connection with the sale, hire and maintenance of waste processing and recycling machinery (part retrospective). | K34: B2, B8 | L34: =_xlfn.XLOOKUP(A34,'XY extract'!$A$2:$A$83,'XY extract'!$E$2:$E$83) -> 374921 | M34: =_xlfn.XLOOKUP(A34,'XY extract'!$A$2:$A$83,'XY extract'!$F$2:$F$83) -> 371177
A35: SHA/0131 | B35: Windfall | C35: Rural | E35: FP McCann Ltd Byley Road Byley Northwich CW10 9RJ | F35: Year 2 | G35: 0.22 | H35: 710 | I35: 24/00346/FUL | J35: Erection of elevated carpark with integrated office, welfare facilities and product display area and ancillary works, including the demolition/removal of existing product display building and modular offices. | K35: B2 | L35: =_xlfn.XLOOKUP(A35,'XY extract'!$A$2:$A$83,'XY extract'!$E$2:$E$83) -> 372851 | M35: =_xlfn.XLOOKUP(A35,'XY extract'!$A$2:$A$83,'XY extract'!$F$2:$F$83) -> 370182
A36: TAT/0163 | B36: Windfall | C36: Rural | E36: Yew Tree Farm Newton Lane Newton by Tattenhall Chester CH3 9NE | F36: Year 1 | G36: 0.57 | H36: 1575 | I36: 23/02256/FUL | J36: Demolition of one redundant poultry building (retrospective), reduction in size of one redundant poultry building to be used for agricultural storage, change of use and reduction in size of one redundant poultry building to caravan storage, alterations to existing shower/toilet block, creation of parking and access to field. | K36: B8 | L36: =_xlfn.XLOOKUP(A36,'XY extract'!$A$2:$A$83,'XY extract'!$E$2:$E$83) -> 350380 | M36: =_xlfn.XLOOKUP(A36,'XY extract'!$A$2:$A$83,'XY extract'!$F$2:$F$83) -> 359711
... A42: SAM/0071 | B42: Windfall | C42: Rural | E42: Urenco (Capenhurst) Ltd, Capenhurst Lane, Capenhurst, Chester, CH1 6HE | F42: n/a | G42: 0 | H42: 0 | I42: 15/04893/FUL | J42: Construction and operation of a Legacy Cylinder Facility (LCF) including enabling works, construction compounds, temporary car park and access road, new service infrastructure and associated hard and soft landscaping | K42: B2 | L42: =_xlfn.XLOOKUP(A42,'XY extract'!$A$2:$A$83,'XY extract'!$E$2:$E$83) -> 336702 | M42: =_xlfn.XLOOKUP(A42,'XY extract'!$A$2:$A$83,'XY extract'!$F$2:$F$83) -> 374646
A43: SHA/0073c | B43: Windfall | C43: Rural | E43: Land off Holmes Chapel Road, Middlewich (Cheshire Fresh) - area 2 | F43: Year 3 | G43: 2.4 | H43: 5352 | I43: 13/03828/FUL 19/00652/REM | J43: Northern Frontage Units - Unit 21 (B2/B8), Unit 22 (B2/B8), Unit 24 (office) | K43: B2, B8 | L43: 371698 | M43: 366578
A44: SHA/0073d | B44: Windfall | C44: Rural | E44: Land off Holmes Chapel Road, Middlewich (Cheshire Fresh) - Area 3 | F44: Year 3 | G44: 1.5 | H44: 2137 | I44: 13/03828/FUL 19/00652/REM | J44: Rural Business Hub, Unit 23 (B2/B8) | K44: B2, B8 | L44: 371698 | M44: 366578
A45: SHA/0073f | B45: Windfall | C45: Rural | E45: Land off Holmes Chapel Road, Middlewich (Cheshire Fresh) - Access Hub | F45: Year 3 | G45: 3 | H45: 0 | I45: 13/03828/FUL | J45: Access area | K45: n/a | L45: 371698 | M45: 366578
...

Sheet Notes
A1: From | B1: To | D1: Forecast Year as at April 2025
A2: 2025 | B2: 2026 | D2: Year 1
A3: 2026 | B3: 2027 | D3: Year 2
A4: 2027 | B4: 2028 | D4: Year 3
A5: 2028 | B5: 2029 | D5: Year 4
A6: 2029 | B6: 2030 | D6: Year 5
A7: 2030 | B7: 2031 | D7: Year 6
A8: 2031 | B8: 2032 | D8: Year 7
A9: 2032 | B9: 2033 | D9: Year 8
A10: 2033 | B10: 2034 | D10: Year 9
A11: 2034 | B11: 2035 | D11: Year 10
A12: 2035 | B12: 2036 | D12: Year 11
A13: 2036 | B13: 2037 | D13: Year 12
... A21: 2044 | B21: 2045 | D21: Year 20

Sheet XY extract
A1: Monitoring Reference | B1: LAA Reference | C1: Location | D1: Prop Use | E1: X | F1: Y | G1: Site_Area | H1: LP_Settlem | I1: Plan_Ref | J1: EmpMon | K1: SiteStatus | L1: LAA Source | M1: EmpTypeS1U | N1: S1UPlotDen | O1: S1U_FS | P1: S1U_JD | Q1: S1U_JE | R1: S1U_Emp25 | S1: S1U_EmpSui
A2: MAL/0056 | B2: 48 | C2: Land adjacent Hampton Heath Ind Estate, Field OS 5412, Edge, Malpas | D2: EMPLOYMENT | E2: 349558 | F2: 349120 | G2: 2.682937 | H2: Rural | I2: 08/00580/FUL, 11/03151/EXT | J2: Yes(pp) | K2: NSIMP_25 | L2: Planning permission | M2: N/a | N2: 0 | O2: 0 | P2: 0 | Q2: 0 | R2: Extant planning permission - see employment worksheet | S2: Planning permission
A3: MAL/0167 | B3: 49 | C3: Parkfield, Millmoor Drive, Macefen, Malpas | D3: EMPLOYMENT | E3: 351534 | F3: 347548 | G3: 0.259963 | H3: Rural | I3: 22/02741/FUL | J3: Yes(pp) | K3: UC_25 | L3: Planning permission | M3: N/a | N3: 0 | O3: 0 | P3: 0 | Q3: 0 | R3: Extant planning permission - see employment worksheet | S3: Planning permission
A4: WIW/0053 | B4: 199 | C4: Land at 1 Nat Lane, Winsford | D4: EMPLOYMENT | E4: 365837 | F4: 366838 | G4: 0.591925 | H4: Winsford | I4: 24/03058/FUL | J4: Yes(pp) | K4: NS_25 | L4: Planning permission | M4: Mixed (B2, B8, Eg) | N4: 0.4 | O4: 0 | P4: 0 | Q4: 0 | R4: Extant planning permission - see employment worksheet | S4: Planning permission
A5: WIW/0012i | B5: 210 | C5: (Site 1, Plot 5) Land West of Road One (South Bostock Road), Winsford | D5: EMPLOYMENT | E5: 366612 | F5: 367692 | G5: 2.407015 | H5: Winsford | I5: 22/01167/DIS | K5: NS_25 | L5: Development Plan | M5: Mixed (B2, B8, Eg) | N5: 0.4 | O5: 9628.06 | P5: 40 | Q5: 240.701 | R5: Stage 1 (suitable) employment potential | S5: S1 suitable Emp
A6: WIW/0012h | B6: 211 | C6: (Site 1, Plot 4) Land West of Road One (South Bostock Road), Winsford | D6: EMPLOYMENT | E6: 366701 | F6: 367781 | G6: 0.728623 | H6: Winsford | I6: 22/01167/DIS | K6: NS_25 | L6: Development Plan | M6: Mixed (B2, B8, Eg) | N6: 0.4 | O6: 2914.492 | P6: 40 | Q6: 72.862 | R6: Stage 1 (suitable) employment potential | S6: S1 suitable Emp
A7: WIW/0022d | B7: 273 | C7: Land east of Road One, Winsford | D7: EMPLOYMENT | E7: 367143 | F7: 367434 | G7: 1.155072 | H7: Winsford | I7: 18/01850/FUL | J7: Yes(pp) | K7: UC_25 | L7: Planning permission | M7: Mixed (B2, B8, Eg) | N7: 0.4 | O7: 0 | P7: 0 | Q7: 0 | R7: Extant planning permission - see employment worksheet | S7: Planning permission
A8: WIW/0022e | B8: 274 | C8: Land east of Road One, Winsford | D8: EMPLOYMENT | E8: 367110 | F8: 367266 | G8: 1.305305 | H8: Winsford | I8: 18/01850/FUL | K8: NS_25 | L8: Development Plan | M8: Mixed (B2, B8, Eg) | N8: 0.4 | O8: 5221.22 | P8: 40 | Q8: 130.531 | R8: Stage 1 (suitable) employment potential | S8: S1 suitable Emp
A9: WIW/0022f | B9: 275 | C9: Land east of Road One, Winsford | D9: EMPLOYMENT | E9: 367243 | F9: 367314 | G9: 2.85423 | H9: Winsford | I9: 18/01850/FUL | K9: NS_25 | L9: Development Plan | M9: Mixed (B2, B8, Eg) | N9: 0.4 | O9: 11416.92 | P9: 40 | Q9: 285.423 | R9: Stage 1 (suitable) employment potential | S9: S1 suitable Emp
A10: WIW/0012a | B10: 277 | C10: Land west of Road One (South Bostock Road) | D10: EMPLOYMENT | E10: 366458 | F10: 367449 | G10: 2.368811 | H10: Winsford | K10: NS_25 | L10: Development Plan | M10: Mixed (B2, B8, Eg) | N10: 0.4 | O10: 9475.244 | P10: 40 | Q10: 236.881 | R10: Stage 1 (suitable) employment potential | S10: S1 suitable Emp
A11: WOV/0041 | B11: 278 | C11: Land at Woodford Park Industrial Estate, Winsford | D11: EMPLOYMENT | E11: 362827 | F11: 365521 | G11: 1.497278 | H11: Winsford | I11: 14/00039/FUL | K11: NS_25 | L11: Development Plan | M11: Mixed (B2, B8, Eg) | N11: 0.4 | O11: 5989.112 | P11: 40 | Q11: 149.728 | R11: Stage 1 (suitable) employment potential | S11: S1 suitable Emp
A12: WOV/0044 (Part) | B12: 284 | C12: Land at Littler Lane, Winsford | D12: MIXED USE | E12: 362678 | F12: 366180 | G12: 5.035742 | H12: Winsford | K12: NS_25 | L12: Development Plan | M12: Mixed (B2, B8, Eg) | N12: 0.4 | O12: 10071.484 | P12: 40 | Q12: 251.787 | R12: Stage 1 (suitable) employment/mixed potential | S12: S1 suitable Emp/mix
A13: WIW/0012e | B13: 297 | C13: (Site 1, Plot 1a) Land West of Road One (South Bostock Road), Winsford | D13: EMPLOYMENT | E13: 366797 | F13: 367825 | G13: 0.195654 | H13: Winsford | I13: 22/01167/DIS | K13: NS_25 | L13: Development Plan | M13: N/a | N13: 0 | O13: 0 | P13: 0 | Q13: 0 | R13: Below site size/floorspace threshold | S13: Below size threshold
A14: WIW/0012g | B14: 301 | C14: Site 1, Plot 3, Land West of Road One (South Bostock Road) | D14: EMPLOYMENT | E14: 366597 | F14: 367831 | G14: 0.741116 | H14: Winsford | I14: 22/00204/REM, 22/01167/DIS | J14: Yes(pp) | K14: UC_25 | L14: Planning permission | M14: N/a | N14: 0 | O14: 0 | P14: 0 | Q14: 0 | R14: Extant planning permission - see employment worksheet | S14: Planning permission
A15: RUD/0010 | B15: 332 | C15: Land at Gadbrook Employment Park, Rudheath | D15: EMPLOYMENT | E15: 367798 | F15: 372288 | G15: 0.806122 | H15: Rural | K15: NS_25 | L15: Development Plan | M15: E(g) | N15: 0.5 | O15: 4030.61 | P15: 50 | Q15: 80.612 | R15: Stage 1 (suitable) employment potential | S15: S1 suitable Emp
A16: RUD/0010a | B16: 334 | C16: Land at Gadbrook Park, Rudheath, Northwich | D16: EMPLOYMENT | E16: 367871 | F16: 372298 | G16: 0.32196 | H16: Rural | I16: 20/01579/FUL | K16: NS_25 | L16: Development Plan | M16: E(g) | N16: 0.5 | O16: 1609.8 | P16: 12 | Q16: 134.15 | R16: Stage 1 (suitable) employment potential | S16: S1 suitable Emp
A17: FAR/0034 | B17: 399 | C17: Extension to Monument Farm Industrial Estate, Churton Road, Farndon, Chester | D17: EMPLOYMENT | E17: 341326 | F17: 355377 | G17: 1.729738 | H17: Rural | I17: 23/00863/FUL | J17: Yes(pp) | K17: NS_25 | L17: Planning permission | M17: Mixed (B2, B8, Eg) | N17: 0.4 | O17: 0 | P17: 0 | Q17: 0 | R17: Extant planning permission - see employment worksheet | S17: Planning permission
A18: CHH/0076a | B18: 418 | C18: Chester Business Park (Parkside One), Chester | D18: EMPLOYMENT | E18: 339666 | F18: 363074 | G18: 0.893842 | H18: Chester | I18: 07/00369/FUL,10/10662/EXT,13/01879/EXT,08/00435/FUL,11/02563/EXT,17/00385/OUT,20/03463/DIS,20/03459/ | K18: NS_25 | L18: Development Plan | M18: E(g) | N18: 0.5 | O18: 4469.21 | P18: 0 | Q18: 0 | R18: Initial constraints: > 10% gross area is Green Belt | S18: S1 Initial constraints
A19: CHH/0076 | B19: 419 | C19: Chester Business Park (Parkside One), Chester | D19: EMPLOYMENT | E19: 339627 | F19: 363081 | G19: 2.07815 | H19: Chester | I19: 07/00369/FUL,10/10662/EXT,13/01879/EXT,08/00435/FUL,11/02563/EXT,17/00385/OUT,20/03463/DIS,20/03459/ | K19: NS_25 | L19: Development Plan | M19: E(g) | N19: 0.5 | O19: 10390.75 | P19: 0 | Q19: 0 | R19: Initial constraints: > 10% gross area is Green Belt | S19: S1 Initial constraints
A20: CHH/0138a | B20: 426 | C20: Dodleston Manor, dodleston Lane, Pulford, Chester | D20: EMPLOYMENT | E20: 336681 | F20: 360274 | G20: 0.363932 | H20: Rural | I20: 22/04554/PDR, 23/01105/FUL | J20: Yes(pp) | K20: NS_25 | L20: Planning permission | M20: N/a | N20: 0 | O20: 0 | P20: 0 | Q20: 0 | R20: Extant planning permission - see employment worksheet | S20: Planning permission
A21: GOR/0159 | B21: 510 | C21: Land off Stanney Mill Road North, Ellesmere Port | D21: EMPLOYMENT | E21: 341649 | F21: 374833 | G21: 0.949773 | H21: Ellesmere Port | K21: NS_25 | L21: Development Plan | M21: Mixed (B2, B8, Eg) | N21: 0.4 | O21: 3799.092 | P21: 40 | Q21: 94.977 | R21: Stage 1 (suitable) employment potential | S21: S1 suitable Emp
A22: MAR/0052b | B22: 726 | C22: Land at Wincham Avenue (east of Thor Specialities UK), Wincham, Northwich | D22: EMPLOYMENT | E22: 368108 | F22: 374920 | G22: 0.618799 | H22: Northwich | I22: 23/00217/FUL | J22: Yes(pp) | L22: Planning permission | M22: Mixed (B2, B8, Eg) | N22: 0.4 | O22: 0 | P22: 0 | Q22: 0 | R22: Extant planning permission - see employment worksheet | S22: Planning permission
A23: MAR/0053 | B23: 734 | C23: Land to rear of Swan House, Wincham Lane, Wincham | D23: EMPLOYMENT | E23: 367652 | F23: 375465 | G23: 1.668284 | H23: Northwich | I23: 13/00470/FUL, 13/02529/DIS, 16/01195/S73 | J23: Yes(pp) | K23: UC_25 | L23: Planning permission | M23: N/a | N23: 0 | O23: 0 | P23: 0 | Q23: 0 | R23: Extant planning permission - see employment worksheet | S23: Planning permission
A24: MAR/0049 | B24: 735 | C24: Land at Chapel Street, Wincham, Northwich | D24: EMPLOYMENT | E24: 367642 | F24: 374965 | G24: 17.923903 | H24: Northwich | I24: 11/01968/OUT | K24: NS_25 | L24: Development Plan | M24: Mixed (B2, B8, Eg) | N24: 0.4 | O24: 71695.612 | P24: 80 | Q24: 896.195 | R24: Stage 1 (suitable) employment potential | S24: S1 suitable Emp
A25: MAR/0164 | B25: 739 | C25: New Cheshire Business Park, Wincham Lane, Wincham, Northwich | D25: EMPLOYMENT | E25: 367844 | F25: 375476 | G25: 0.258915 | H25: Northwich | I25: 22/01390/OUT | J25: Yes(pp) | K25: NS_25 | L25: Planning permission | M25: N/a | N25: 0 | O25: 0 | P25: 0 | Q25: 0 | R25: Extant planning permission - see employment worksheet | S25: Planning permission
A26: MAR/0052c | B26: 740 | C26: Land at Thor Specialities | D26: EMPLOYMENT | E26: 368023 | F26: 375057 | G26: 0.302152 | H26: Northwich | I26: 23/00217/FUL | J26: Yes(pp) | K26: NS_25 | L26: Planning permission | M26: Mixed (B2, B8, Eg) | N26: 0.4 | O26: 0 | P26: 0 | Q26: 0 | R26: Extant planning permission - see employment worksheet | S26: Planning permission
A27: TAT/0051 | B27: 750 | C27: Chowley Oak, Dog Lane, Chowley | D27: EMPLOYMENT | E27: 347543 | F27: 356393 | G27: 2.247883 | H27: Rural | K27: NS_25 | L27: Development Plan | M27: E(g) | N27: 0.5 | O27: 11239.415 | P27: 50 | Q27: 224.788 | R27: Stage 1 (suitable) employment potential | S27: S1 suitable Emp
A28: GOR/0200Plot 10 | B28: 764 | C28: Protos - Plot 10A Material Recycling Facility (MRF) | D28: MIXED USE | E28: 346291 | F28: 376557 | G28: 2.292799 | H28: Ellesmere Port | I28: 21/04076/FUL, See Protos schedule of planning permissions | J28: Yes(pp) | K28: NSIMP_25 | L28: Development Plan | M28: N/a | N28: 0 | O28: 0 | P28: 0 | Q28: 0 | R28: Extant planning permission - see employment worksheet | S28: Planning permission
A29: GOR/0200Plot 13 | B29: 766 | C29: Protos - Plot 13 Plastics Recycling (Enviroo) | D29: MIXED USE | E29: 346531 | F29: 376451 | G29: 4.172419 | H29: Ellesmere Port | I29: 24/00419/DIS, See Protos schedule of planning permissions | J29: Yes(pp) | K29: NSIMP_25 | L29: Development Plan | M29: N/a | N29: 0 | O29: 0 | P29: 0 | Q29: 0 | R29: Extant planning permission - see employment worksheet | S29: Planning permission
A30: NOW/0020 | B30: 827 | C30: Land at Denton Drive Industrial Estate, Northwich | D30: EMPLOYMENT | E30: 367171 | F30: 374528 | G30: 0.596242 | H30: Northwich | J30: Yes(pp) | K30: NS_25 | L30: Planning permission | M30: N/a | N30: 0 | O30: 0 | P30: 0 | Q30: 0 | R30: Extant planning permission - see employment worksheet | S30: Planning permission
A31: NWC/0029b | B31: 863 | C31: Natrium House, Winnington Lane, Northwich | D31: EMPLOYMENT | E31: 364507 | F31: 374555 | G31: 2.263574 | H31: Northwich | I31: 21/02286/FUL | J31: Yes(pp) | K31: NS_25 | L31: Planning permission | M31: N/a | N31: 0 | O31: 0 | P31: 0 | Q31: 0 | R31: Extant planning permission - see employment worksheet | S31: Planning permission
A32: NOW/0027b | B32: 867 | C32: Land at Corner of Albion Road, Old Warrington Road, Northwich (Phase 1) | D32: EMPLOYMENT | E32: 366463 | F32: 374095 | G32: 0.080396 | H32: Northwich | I32: 21/04121/FUL | J32: Yes(pp) | K32: UC_25 | L32: Planning permission | M32: N/a | N32: 0 | O32: 0 | P32: 0 | Q32: 0 | R32: Below site size/floorspace threshold | S32: Below size threshold
A33: NOW/0027b | B33: 868 | C33: Land at Corner of Albion Road, Old Warrington Road, Northwich (Phase 2) | D33: EMPLOYMENT | E33: 366536 | F33: 374139 | G33: 0.219886 | H33: Northwich | I33: 21/04121/FUL, 24/01409/NMA, 24/01790/S73, 24/02242/DIS,24/02567/FUL | J33: Yes(pp) | K33: NS_23 | L33: Planning permission | M33: N/a | N33: 0 | O33: 0 | P33: 0 | Q33: 0 | R33: Extant planning permission - see employment worksheet | S33: Planning permission
A34: NOW/0079a | B34: 873 | C34: Unit 1 to 2 Chester Way, Retail Park, Chester Way, Northwich | D34: EMPLOYMENT | E34: 366352 | F34: 373892 | G34: 0.171225 | H34: Northwich | I34: 22/01332/FUL | J34: Yes(pp) | K34: NS_25 | L34: Planning permission | M34: N/a | N34: 0 | O34: 0 | P34: 0 | Q34: 0 | R34: Extant planning permission - see employment worksheet | S34: Planning permission
A35: NWC/0057b | B35: 874 | C35: Land at Winnington Lane, Northwich | D35: EMPLOYMENT | E35: 364472 | F35: 374673 | G35: 0.12186 | H35: Northwich | I35: 21/02236/FUL | J35: Yes(pp) | K35: UC_25 | L35: Planning permission | M35: N/a | N35: 0 | O35: 0 | P35: 0 | Q35: 0 | R35: Extant planning permission - see employment worksheet | S35: Planning permission
A36: DMK/0043 | B36: 878 | C36: Land south of A556, Rudheath, Northwich (south west Gadbrook Park) | D36: EMPLOYMENT | E36: 367569 | F36: 371812 | G36: 33.537888 | H36: Northwich | K36: NS_25 | L36: Development Plan | M36: Mixed (B2, B8, Eg) | N36: 0.4 | O36: 134151.55 | P36: 80 | Q36: 1676.894 | R36: Stage 1 (suitable) employment potential | S36: S1 suitable Emp
A37: NET/0007b | B37: 972 | C37: Land adjacent to Vauxhalls, North Road, Ellesmere Port | D37: EMPLOYMENT | E37: 337915 | F37: 378277 | G37: 22.770206 | H37: Ellesmere Port | K37: NS_25 | L37: Development Plan | M37: Mixed (B2, B8, Eg) | N37: 0.4 | O37: 91080.824 | P37: 80 | Q37: 1138.51 | R37: Stage 1 (suitable) employment potential | S37: S1 suitable Emp
A38: GOR/0160 | B38: 980 | C38: Cloister Way 1, off New Bridge Road, Ellesmere Port | D38: EMPLOYMENT | E38: 341497 | F38: 376150 | G38: 1.028181 | H38: Ellesmere Port | I38: 10/00688/LAND | K38: NS_25 | L38: Development Plan | M38: Mixed (B2, B8, Eg) | N38: 0.4 | O38: 4112.724 | P38: 40 | Q38: 102.818 | R38: Stage 1 (suitable) employment potential | S38: S1 suitable Emp
A39: GOR/0205c | B39: 981 | C39: New Port Business Park (remaining area), Ellesmere Port | D39: EMPLOYMENT | E39: 341650 | F39: 375348 | G39: 3.526009 | H39: Ellesmere Port | K39: NS_25 | L39: Development Plan | M39: Mixed (B2, B8, Eg) | N39: 0.4 | O39: 14104.036 | P39: 80 | Q39: 176.3 | R39: Stage 1 (suitable) employment potential | S39: S1 suitable Emp
A40: GOR/0138c | B40: 983 | C40: Progroup Ltd (Phase FOUR, Cabot Carbon), South Road, Ellesmere Port | D40: EMPLOYMENT | E40: 341412 | F40: 375703 | G40: 4.775592 | H40: Ellesmere Port | I40: 12/04098/FUL, 22/01933/DIS | J40: Yes(pp) | K40: UC_24 | L40: Planning permission | M40: N/a | N40: 0 | O40: 0 | P40: 0 | Q40: 0 | R40: Extant planning permission - see employment worksheet | S40: Planning permission
...
