Workbook

Sheet Sites Assessment
F7: Summary Table
B8: Cheshire West and Chester Council
B9: Local Plan Sites Assessment | F9: Flood Map for Planning | N9: Risk of Flooding from Surface Water
B10: 42724 | F10: Flood Zone 1 | H10: Flood Zone 2 | J10: Flood Zone 3a | L10: Flood Zone 3b | N10: 1 in 30 year | P10: 1 in 100 year | R10: 1 in 1000 year
C11: Proposed Use | D11: Number of Sites | E11: Area (ha) | F11: Area (ha) | G11: No. 100% | H11: Area (ha) | I11: No. | J11: Area (ha) | K11: No. | L11: Area (ha) | M11: No. | N11: Area (ha) | O11: No. | P11: Area (ha) | Q11: No. | R11: Area (ha) | S11: No.
C12: Residential | D12: =COUNTIF($D$31:$D$100, "Residential") -> 22 | E12: =SUMIF($D$31:$D$100, "Residential", $E$31:$E$100) -> 54.107836 | F12: =SUMIF($D$31:$D$100, "Residential", $F$31:$F$100) -> 53.405969 | G12: =COUNTIFS($D$31:$D$100, "Residential", $G$31:$G$100, "=100") -> 20 | H12: =SUMIF($D$31:$D$100, "Residential", $H$31:$H$100) -> 0.45552684 | I12: =COUNTIFS($D$31:$D$100, "Residential", $I$31:$I$100, ">0") -> 2 | J12: =SUMIF($D$31:$D$100, "Residential", $J$31:$J$100) -> 0.24633948 | K12: =COUNTIFS($D$31:$D$100, "Residential", $K$31:$K$100, ">0") -> 2 | L12: =SUMIF($D$31:$D$100, "Residential", $L$31:$L$100) -> 0 | M12: =COUNTIFS($D$31:$D$100, "Residential", $M$31:$M$100, ">0") -> 0 | N12: =SUMIF($D$31:$D$100, "Residential", $N$31:$N$100) -> 0.63013863 | O12: =COUNTIFS($D$31:$D$100, "Residential", $O$31:$O$100, ">0") -> 8 | P12: =SUMIF($D$31:$D$100, "Residential", $P$31:$P$100) -> 0.63687101 | Q12: =COUNTIFS($D$31:$D$100, "Residential", $Q$31:$Q$100, ">0") -> 11 | R12: =SUMIF($D$31:$D$100, "Residential", $R$31:$R$100) -> 2.1268757 | S12: =COUNTIFS($D$31:$D$100, "Residential", $S$31:$S$100, ">0") -> 13
C13: Residential / Other | D13: =COUNTIF($D$31:$D$100, "Residential / Other") -> 1 | E13: =SUMIF($D$31:$D$100, "Residential / Other", $E$31:$E$100) -> 81.7924 | F13: =SUMIF($D$31:$D$100, "Residential / Other", $F$31:$F$100) -> 70.201285 | G13: =COUNTIFS($D$31:$D$100, "Residential / Other", $G$31:$G$100, "=100") -> 0 | H13: =SUMIF($D$31:$D$100, "Residential / Other", $H$31:$H$100) -> 0.60468006 | I13: =COUNTIFS($D$31:$D$100, "Residential / Other", $I$31:$I$100, ">0") -> 1 | J13: =SUMIF($D$31:$D$100, "Residential / Other", $J$31:$J$100) -> 10.97601 | K13: =COUNTIFS($D$31:$D$100, "Residential / Other", $K$31:$K$100, ">0") -> 1 | L13: =SUMIF($D$31:$D$100, "Residential / Other", $L$31:$L$100) -> 0.010425175 | M13: =COUNTIFS($D$31:$D$100, "Residential / Other", $M$31:$M$100, ">0") -> 1 | N13: =SUMIF($D$31:$D$100, "Residential / Other", $N$31:$N$100) -> 3.6092725 | O13: =COUNTIFS($D$31:$D$100, "Residential / Other", $O$31:$O$100, ">0") -> 1 | P13: =SUMIF($D$31:$D$100, "Residential / Other", $P$31:$P$100) -> 2.3250652 | Q13: =COUNTIFS($D$31:$D$100, "Residential / Other", $Q$31:$Q$100, ">0") -> 1 | R13: =SUMIF($D$31:$D$100, "Residential / Other", $R$31:$R$100) -> 7.8928384 | S13: =COUNTIFS($D$31:$D$100, "Residential / Other", $S$31:$S$100, ">0") -> 1
C14: Employment | D14: =COUNTIF($D$31:$D$100, "Employment") -> 6 | E14: =SUMIF($D$31:$D$100, "Employment", $E$31:$E$100) -> 187.98338 | F14: =SUMIF($D$31:$D$100, "Employment", $F$31:$F$100) -> 182.35444 | G14: =COUNTIFS($D$31:$D$100, "Employment", $G$31:$G$100, "=100") -> 3 | H14: =SUMIF($D$31:$D$100, "Employment", $H$31:$H$100) -> 0.4551981 | I14: =COUNTIFS($D$31:$D$100, "Employment", $I$31:$I$100, ">0") -> 3 | J14: =SUMIF($D$31:$D$100, "Employment", $J$31:$J$100) -> 3.9542666 | K14: =COUNTIFS($D$31:$D$100, "Employment", $K$31:$K$100, ">0") -> 3 | L14: =SUMIF($D$31:$D$100, "Employment", $L$31:$L$100) -> 1.2194827 | M14: =COUNTIFS($D$31:$D$100, "Employment", $M$31:$M$100, ">0") -> 1 | N14: =SUMIF($D$31:$D$100, "Employment", $N$31:$N$100) -> 6.3279991 | O14: =COUNTIFS($D$31:$D$100, "Employment", $O$31:$O$100, ">0") -> 6 | P14: =SUMIF($D$31:$D$100, "Employment", $P$31:$P$100) -> 5.6692914 | Q14: =COUNTIFS($D$31:$D$100, "Employment", $Q$31:$Q$100, ">0") -> 6 | R14: =SUMIF($D$31:$D$100, "Employment", $R$31:$R$100) -> 14.850935 | S14: =COUNTIFS($D$31:$D$100, "Employment", $S$31:$S$100, ">0") -> 6
C15: Employment (Stanlow) | D15: =COUNTIF($D$31:$D$100, "Employment (Stanlow)") -> 3 | E15: =SUMIF($D$31:$D$100, "Employment (Stanlow)", $E$31:$E$100) -> 3.581788 | F15: =SUMIF($D$31:$D$100, "Employment (Stanlow)", $F$31:$F$100) -> 3.5685361 | G15: =COUNTIFS($D$31:$D$100, "Employment (Stanlow)", $G$31:$G$100, "=100") -> 2 | H15: =SUMIF($D$31:$D$100, "Employment (Stanlow)", $H$31:$H$100) -> 0.0013585046 | I15: =COUNTIFS($D$31:$D$100, "Employment (Stanlow)", $I$31:$I$100, ">0") -> 1 | J15: =SUMIF($D$31:$D$100, "Employment (Stanlow)", $J$31:$J$100) -> 0.011893418 | K15: =COUNTIFS($D$31:$D$100, "Employment (Stanlow)", $K$31:$K$100, ">0") -> 1 | L15: =SUMIF($D$31:$D$100, "Employment (Stanlow)", $L$31:$L$100) -> 0 | M15: =COUNTIFS($D$31:$D$100, "Employment (Stanlow)", $M$31:$M$100, ">0") -> 0 | N15: =SUMIF($D$31:$D$100, "Employment (Stanlow)", $N$31:$N$100) -> 0 | O15: =COUNTIFS($D$31:$D$100, "Employment (Stanlow)", $O$31:$O$100, ">0") -> 0 | P15: =SUMIF($D$31:$D$100, "Employment (Stanlow)", $P$31:$P$100) -> 0 | Q15: =COUNTIFS($D$31:$D$100, "Employment (Stanlow)", $Q$31:$Q$100, ">0") -> 0 | R15: =SUMIF($D$31:$D$100, "Employment (Stanlow)", $R$31:$R$100) -> 0.038826039 | S15: =COUNTIFS($D$31:$D$100, "Employment (Stanlow)", $S$31:$S$100, ">0") -> 2
C16: Retail | D16: =COUNTIF($D$31:$D$100, "Retail") -> 2 | E16: =SUMIF($D$31:$D$100, "Retail", $E$31:$E$100) -> 1.115551 | F16: =SUMIF($D$31:$D$100, "Retail", $F$31:$F$100) -> 0.94640863 | G16: =COUNTIFS($D$31:$D$100, "Retail", $G$31:$G$100, "=100") -> 1 | H16: =SUMIF($D$31:$D$100, "Retail", $H$31:$H$100) -> 0.0032265679 | I16: =COUNTIFS($D$31:$D$100, "Retail", $I$31:$I$100, ">0") -> 1 | J16: =SUMIF($D$31:$D$100, "Retail", $J$31:$J$100) -> 0.067670908 | K16: =COUNTIFS($D$31:$D$100, "Retail", $K$31:$K$100, ">0") -> 1 | L16: =SUMIF($D$31:$D$100, "Retail", $L$31:$L$100) -> 0.098244895 | M16: =COUNTIFS($D$31:$D$100, "Retail", $M$31:$M$100, ">0") -> 1 | N16: =SUMIF($D$31:$D$100, "Retail", $N$31:$N$100) -> 0.031259537 | O16: =COUNTIFS($D$31:$D$100, "Retail", $O$31:$O$100, ">0") -> 1 | P16: =SUMIF($D$31:$D$100, "Retail", $P$31:$P$100) -> 0.017266119 | Q16: =COUNTIFS($D$31:$D$100, "Retail", $Q$31:$Q$100, ">0") -> 1 | R16: =SUMIF($D$31:$D$100, "Retail", $R$31:$R$100) -> 0.037505225 | S16: =COUNTIFS($D$31:$D$100, "Retail", $S$31:$S$100, ">0") -> 1
C17: Retail/Leisure/Employment | D17: =COUNTIF($D$31:$D$100, "Retail/Leisure/Employment") -> 1 | E17: =SUMIF($D$31:$D$100, "Retail/Leisure/Employment", $E$31:$E$100) -> 0.383443 | F17: =SUMIF($D$31:$D$100, "Retail/Leisure/Employment", $F$31:$F$100) -> 0.383443 | G17: =COUNTIFS($D$31:$D$100, "Retail/Leisure/Employment", $G$31:$G$100, "=100") -> 1 | H17: =SUMIF($D$31:$D$100, "Retail/Leisure/Employment", $H$31:$H$100) -> 0 | I17: =COUNTIFS($D$31:$D$100, "Retail/Leisure/Employment", $I$31:$I$100, ">0") -> 0 | J17: =SUMIF($D$31:$D$100, "Retail/Leisure/Employment", $J$31:$J$100) -> 0 | K17: =COUNTIFS($D$31:$D$100, "Retail/Leisure/Employment", $K$31:$K$100, ">0") -> 0 | L17: =SUMIF($D$31:$D$100, "Retail/Leisure/Employment", $L$31:$L$100) -> 0 | M17: =COUNTIFS($D$31:$D$100, "Retail/Leisure/Employment", $M$31:$M$100, ">0") -> 0 | N17: =SUMIF($D$31:$D$100, "Retail/Leisure/Employment", $N$31:$N$100) -> 0 | O17: =COUNTIFS($D$31:$D$100, "Retail/Leisure/Employment", $O$31:$O$100, ">0") -> 0 | P17: =SUMIF($D$31:$D$100, "Retail/Leisure/Employment", $P$31:$P$100) -> 0.00054084 | Q17: =COUNTIFS($D$31:$D$100, "Retail/Leisure/Employment", $Q$31:$Q$100, ">0") -> 1 | R17: =SUMIF($D$31:$D$100, "Retail/Leisure/Employment", $R$31:$R$100) -> 0.018285455 | S17: =COUNTIFS($D$31:$D$100, "Retail/Leisure/Employment", $S$31:$S$100, ">0") -> 1
C18: Mixed Use | D18: =COUNTIF($D$31:$D$100, "Mixed Use") -> 5 | E18: =SUMIF($D$31:$D$100, "Mixed Use", $E$31:$E$100) -> 54.730321 | F18: =SUMIF($D$31:$D$100, "Mixed Use", $F$31:$F$100) -> 54.132011 | G18: =COUNTIFS($D$31:$D$100, "Mixed Use", $G$31:$G$100, "=100") -> 4 | H18: =SUMIF($D$31:$D$100, "Mixed Use", $H$31:$H$100) -> 0.12435714 | I18: =COUNTIFS($D$31:$D$100, "Mixed Use", $I$31:$I$100, ">0") -> 1 | J18: =SUMIF($D$31:$D$100, "Mixed Use", $J$31:$J$100) -> 0.47395258 | K18: =COUNTIFS($D$31:$D$100, "Mixed Use", $K$31:$K$100, ">0") -> 1 | L18: =SUMIF($D$31:$D$100, "Mixed Use", $L$31:$L$100) -> 0 | M18: =COUNTIFS($D$31:$D$100, "Mixed Use", $M$31:$M$100, ">0") -> 0 | N18: =SUMIF($D$31:$D$100, "Mixed Use", $N$31:$N$100) -> 0.43677493 | O18: =COUNTIFS($D$31:$D$100, "Mixed Use", $O$31:$O$100, ">0") -> 4 | P18: =SUMIF($D$31:$D$100, "Mixed Use", $P$31:$P$100) -> 1.2229719 | Q18: =COUNTIFS($D$31:$D$100, "Mixed Use", $Q$31:$Q$100, ">0") -> 4 | R18: =SUMIF($D$31:$D$100, "Mixed Use", $R$31:$R$100) -> 6.2797462 | S18: =COUNTIFS($D$31:$D$100, "Mixed Use", $S$31:$S$100, ">0") -> 5
C19: Both | D19: =COUNTIF($D$31:$D$100, "Both") -> 20 | E19: =SUMIF($D$31:$D$100, "Both", $E$31:$E$100) -> 90.91561 | F19: =SUMIF($D$31:$D$100, "Both", $F$31:$F$100) -> 85.005836 | G19: =COUNTIFS($D$31:$D$100, "Both", $G$31:$G$100, "=100") -> 15 | H19: =SUMIF($D$31:$D$100, "Both", $H$31:$H$100) -> 1.5194642 | I19: =COUNTIFS($D$31:$D$100, "Both", $I$31:$I$100, ">0") -> 5 | J19: =SUMIF($D$31:$D$100, "Both", $J$31:$J$100) -> 4.39031 | K19: =COUNTIFS($D$31:$D$100, "Both", $K$31:$K$100, ">0") -> 5 | L19: =SUMIF($D$31:$D$100, "Both", $L$31:$L$100) -> 0 | M19: =COUNTIFS($D$31:$D$100, "Both", $M$31:$M$100, ">0") -> 0 | N19: =SUMIF($D$31:$D$100, "Both", $N$31:$N$100) -> 1.3513127 | O19: =COUNTIFS($D$31:$D$100, "Both", $O$31:$O$100, ">0") -> 13 | P19: =SUMIF($D$31:$D$100, "Both", $P$31:$P$100) -> 2.5675215 | Q19: =COUNTIFS($D$31:$D$100, "Both", $Q$31:$Q$100, ">0") -> 16 | R19: =SUMIF($D$31:$D$100, "Both", $R$31:$R$100) -> 9.4662173 | S19: =COUNTIFS($D$31:$D$100, "Both", $S$31:$S$100, ">0") -> 18
C20: Car parking | D20: =COUNTIF($D$31:$D$100, "Car parking") -> 6 | E20: =SUMIF($D$31:$D$100, "Car parking", $E$31:$E$100) -> 49.46528 | F20: =SUMIF($D$31:$D$100, "Car parking", $F$31:$F$100) -> 49.46528 | G20: =COUNTIFS($D$31:$D$100, "Car parking", $G$31:$G$100, "=100") -> 6 | H20: =SUMIF($D$31:$D$100, "Car parking", $H$31:$H$100) -> 0 | I20: =COUNTIFS($D$31:$D$100, "Car parking", $I$31:$I$100, ">0") -> 0 | J20: =SUMIF($D$31:$D$100, "Car parking", $J$31:$J$100) -> 0 | K20: =COUNTIFS($D$31:$D$100, "Car parking", $K$31:$K$100, ">0") -> 0 | L20: =SUMIF($D$31:$D$100, "Car parking", $L$31:$L$100) -> 0 | M20: =COUNTIFS($D$31:$D$100, "Car parking", $M$31:$M$100, ">0") -> 0 | N20: =SUMIF($D$31:$D$100, "Car parking", $N$31:$N$100) -> 0.55954819 | O20: =COUNTIFS($D$31:$D$100, "Car parking", $O$31:$O$100, ">0") -> 6 | P20: =SUMIF($D$31:$D$100, "Car parking", $P$31:$P$100) -> 0.26086894 | Q20: =COUNTIFS($D$31:$D$100, "Car parking", $Q$31:$Q$100, ">0") -> 6 | R20: =SUMIF($D$31:$D$100, "Car parking", $R$31:$R$100) -> 1.2566816 | S20: =COUNTIFS($D$31:$D$100, "Car parking", $S$31:$S$100, ">0") -> 6
C21: Unknown | D21: =COUNTIF($D$31:$D$100, "Unknown") -> 4 | E21: =SUMIF($D$31:$D$100, "Unknown", $E$31:$E$100) -> 4.0729213 | F21: =SUMIF($D$31:$D$100, "Unknown", $F$31:$F$100) -> 3.6036737 | G21: =COUNTIFS($D$31:$D$100, "Unknown", $G$31:$G$100, "=100") -> 3 | H21: =SUMIF($D$31:$D$100, "Unknown", $H$31:$H$100) -> 0.040637128 | I21: =COUNTIFS($D$31:$D$100, "Unknown", $I$31:$I$100, ">0") -> 1 | J21: =SUMIF($D$31:$D$100, "Unknown", $J$31:$J$100) -> 0.4286105 | K21: =COUNTIFS($D$31:$D$100, "Unknown", $K$31:$K$100, ">0") -> 1 | L21: =SUMIF($D$31:$D$100, "Unknown", $L$31:$L$100) -> 0 | M21: =COUNTIFS($D$31:$D$100, "Unknown", $M$31:$M$100, ">0") -> 0 | N21: =SUMIF($D$31:$D$100, "Unknown", $N$31:$N$100) -> 0.087447456 | O21: =COUNTIFS($D$31:$D$100, "Unknown", $O$31:$O$100, ">0") -> 1 | P21: =SUMIF($D$31:$D$100, "Unknown", $P$31:$P$100) -> 0.076970626 | Q21: =COUNTIFS($D$31:$D$100, "Unknown", $Q$31:$Q$100, ">0") -> 1 | R21: =SUMIF($D$31:$D$100, "Unknown", $R$31:$R$100) -> 0.12495509 | S21: =COUNTIFS($D$31:$D$100, "Unknown", $S$31:$S$100, ">0") -> 2
C22: TOTAL | D22: =SUM(D12:D21) -> 70 | E22: =SUM(E12:E21) -> 528.14853 | F22: =SUM(F12:F21) -> 503.06688 | G22: =SUM(G12:G21) -> 55 | H22: =SUM(H12:H21) -> 3.2044485 | I22: =SUM(I12:I21) -> 15 | J22: =SUM(J12:J21) -> 20.549053 | K22: =SUM(K12:K21) -> 15 | ... S22: =SUM(S12:S21) -> 55
B23: Key
B24: Flood Zone 3b | C24: The colour coding shows the highest risk element of the flood zone that is present on site and is not in itself an indication of whether the site should or shouldn’t be developed for flooding reason
B25: Flood Zone 3a
B26: Flood Zone 2 | F26: Main Table
B27: Flood Zone 1 + Surface Water
B28: Flood Zone 1 | F28: =F9 -> Flood Map for Planning | N28: =N9 -> Risk of Flooding from Surface Water
F29: Flood Zone 1 | H29: Flood Zone 2 | J29: Flood Zone 3a | L29: Flood Zone 3b | N29: 1 in 30 year | P29: 1 in 100 year | R29: 1 in 1000 year
B30: Site Reference | C30: Site Name | D30: Proposed Use | E30: Area (ha) | F30: Area (ha) | G30: % | H30: Area (ha) | I30: % | J30: Area (ha) | K30: % | L30: Area (ha) | M30: % | N30: Area (ha) | O30: % | P30: Area (ha) | Q30: % | R30: Area (ha) | S30: % | T30: Development Viability | U30: SFRA Recommendation (See Section 6.5 SFRA Report)
B31: =Calculations!A2 -> CHC/0004 | C31: =Calculations!B2 -> Black Diamond Street and Hoole Way, Chester | D31: =Calculations!C2 -> Residential | E31: =Calculations!D2 -> 0.296622 | F31: =Calculations!H2 -> 0.296622 | G31: =Calculations!L2 -> 100 | H31: =Calculations!G2 -> 0 | I31: =Calculations!K2 -> 0 | J31: =Calculations!F2 -> 0 | K31: =Calculations!J2 -> 0 | L31: =Calculations!E2 -> 0 | M31: =Calculations!I2 -> 0 | N31: =Calculations!M2 -> 0.024 | O31: =Calculations!P2 -> 8.0911059 | P31: =Calculations!N2 -> 0.0132 | Q31: =Calculations!Q2 -> 4.4501082 | R31: =Calculations!O2 -> 0.090644141 | S31: =Calculations!R2 -> 30.558806 | T31: Consider site layout and design as part of detailed drainage / SuDS based FRA | U31: Recommendation C
B32: =Calculations!A3 -> CHV/0009 | C32: =Calculations!B3 -> Land off Pepper Street, bound by Shropshire Union Canal / Faulkners Lane, Christleton | D32: =Calculations!C3 -> Residential | E32: =Calculations!D3 -> 3.91958 | F32: =Calculations!H3 -> 3.91958 | G32: =Calculations!L3 -> 100 | H32: =Calculations!G3 -> 0 | I32: =Calculations!K3 -> 0 | J32: =Calculations!F3 -> 0 | K32: =Calculations!J3 -> 0 | L32: =Calculations!E3 -> 0 | M32: =Calculations!I3 -> 0 | N32: =Calculations!M3 -> 0.0080077976 | O32: =Calculations!P3 -> 0.20430244 | P32: =Calculations!N3 -> 0.017120823 | Q32: =Calculations!Q3 -> 0.43680248 | R32: =Calculations!O3 -> 0.0173905 | S32: =Calculations!R3 -> 0.44368275 | T32: Permitted subject to FRA | U32: Recommendation D
B33: =Calculations!A4 -> CHV/0018 | C33: =Calculations!B4 -> Land to north of School Lane, adjacent Newhall Rise, Guilden Sutton | D33: =Calculations!C4 -> Residential | E33: =Calculations!D4 -> 2.25941 | F33: =Calculations!H4 -> 2.25941 | G33: =Calculations!L4 -> 100 | H33: =Calculations!G4 -> 0 | I33: =Calculations!K4 -> 0 | J33: =Calculations!F4 -> 0 | K33: =Calculations!J4 -> 0 | L33: =Calculations!E4 -> 0 | M33: =Calculations!I4 -> 0 | N33: =Calculations!M4 -> 0 | O33: =Calculations!P4 -> 0 | P33: =Calculations!N4 -> 0 | Q33: =Calculations!Q4 -> 0 | R33: =Calculations!O4 -> 0 | S33: =Calculations!R4 -> 0 | T33: Permitted subject to FRA | U33: Recommendation D
B34: =Calculations!A5 -> CHV/0117 | C34: =Calculations!B5 -> Land to north of School Lane, adjacent Newhall Rise, Guilden Sutton | D34: =Calculations!C5 -> Residential | E34: =Calculations!D5 -> 3.86165 | F34: =Calculations!H5 -> 3.86165 | G34: =Calculations!L5 -> 100 | H34: =Calculations!G5 -> 0 | I34: =Calculations!K5 -> 0 | J34: =Calculations!F5 -> 0 | K34: =Calculations!J5 -> 0 | L34: =Calculations!E5 -> 0 | M34: =Calculations!I5 -> 0 | N34: =Calculations!M5 -> 0.0032402692 | O34: =Calculations!P5 -> 0.08390893 | P34: =Calculations!N5 -> 0.00079966657 | Q34: =Calculations!Q5 -> 0.020707899 | R34: =Calculations!O5 -> 0.0046055105 | S34: =Calculations!R5 -> 0.11926276 | T34: Permitted subject to FRA | U34: Recommendation D
B35: =Calculations!A6 -> DAM/0058 | C35: =Calculations!B6 -> Land to the south of A556, Rudheath, Northwich (south west Gadbrook Park) | D35: =Calculations!C6 -> Employment | E35: =Calculations!D6 -> 35.1506 | F35: =Calculations!H6 -> 33.412375 | G35: =Calculations!L6 -> 95.054922 | H35: =Calculations!G6 -> 0.34691745 | I35: =Calculations!K6 -> 0.98694602 | J35: =Calculations!F6 -> 1.3913071 | K35: =Calculations!J6 -> 3.9581317 | L35: =Calculations!E6 -> 0 | M35: =Calculations!I6 -> 0 | N35: =Calculations!M6 -> 1.6922689 | O35: =Calculations!P6 -> 4.8143387 | P35: =Calculations!N6 -> 0.66756528 | Q35: =Calculations!Q6 -> 1.8991576 | R35: =Calculations!O6 -> 1.8939592 | S35: =Calculations!R6 -> 5.3881277 | T35: Permitted subject to FRA | U35: Recommendation D
B36: =Calculations!A7 -> DAM/0070 | C36: =Calculations!B7 -> Land off Niddries Lane, Moulton | D36: =Calculations!C7 -> Residential | E36: =Calculations!D7 -> 5.38536 | F36: =Calculations!H7 -> 5.38536 | G36: =Calculations!L7 -> 100 | H36: =Calculations!G7 -> 0 | I36: =Calculations!K7 -> 0 | J36: =Calculations!F7 -> 0 | K36: =Calculations!J7 -> 0 | L36: =Calculations!E7 -> 0 | M36: =Calculations!I7 -> 0 | N36: =Calculations!M7 -> 0.2668815 | O36: =Calculations!P7 -> 4.9556854 | P36: =Calculations!N7 -> 0.19566386 | Q36: =Calculations!Q7 -> 3.6332549 | R36: =Calculations!O7 -> 0.64364984 | S36: =Calculations!R7 -> 11.951844 | T36: Permitted subject to FRA | U36: Recommendation D
B37: =Calculations!A8 -> DAM/0071 | C37: =Calculations!B8 -> Land to the west of Bostock Green and east of A533. | D37: =Calculations!C8 -> Employment | E37: =Calculations!D8 -> 15.2526 | F37: =Calculations!H8 -> 15.2526 | G37: =Calculations!L8 -> 100 | H37: =Calculations!G8 -> 0 | I37: =Calculations!K8 -> 0 | J37: =Calculations!F8 -> 0 | K37: =Calculations!J8 -> 0 | L37: =Calculations!E8 -> 0 | M37: =Calculations!I8 -> 0 | N37: =Calculations!M8 -> 0.30078817 | O37: =Calculations!P8 -> 1.9720452 | P37: =Calculations!N8 -> 0.20025142 | Q37: =Calculations!Q8 -> 1.3129002 | R37: =Calculations!O8 -> 0.81579006 | S37: =Calculations!R8 -> 5.3485311 | T37: Permitted subject to FRA | U37: Recommendation D
B38: =Calculations!A9 -> DAM/0072 | C38: =Calculations!B9 -> Land at 618 London Road, Davenham | D38: =Calculations!C9 -> Residential | E38: =Calculations!D9 -> 2.21092 | F38: =Calculations!H9 -> 2.21092 | G38: =Calculations!L9 -> 100 | H38: =Calculations!G9 -> 0 | I38: =Calculations!K9 -> 0 | J38: =Calculations!F9 -> 0 | K38: =Calculations!J9 -> 0 | L38: =Calculations!E9 -> 0 | M38: =Calculations!I9 -> 0 | N38: =Calculations!M9 -> 0 | O38: =Calculations!P9 -> 0 | P38: =Calculations!N9 -> 0 | Q38: =Calculations!Q9 -> 0 | R38: =Calculations!O9 -> 0 | S38: =Calculations!R9 -> 0 | T38: Permitted subject to FRA | U38: Recommendation D
B39: =Calculations!A10 -> EPT/0028 | C39: =Calculations!B10 -> Rushtons, Newbridge Road, Ellesmere Port | D39: =Calculations!C10 -> Employment (Stanlow) | E39: =Calculations!D10 -> 0.877048 | F39: =Calculations!H10 -> 0.877048 | G39: =Calculations!L10 -> 100 | H39: =Calculations!G10 -> 0 | I39: =Calculations!K10 -> 0 | J39: =Calculations!F10 -> 0 | K39: =Calculations!J10 -> 0 | L39: =Calculations!E10 -> 0 | M39: =Calculations!I10 -> 0 | N39: =Calculations!M10 -> 0 | O39: =Calculations!P10 -> 0 | P39: =Calculations!N10 -> 0 | Q39: =Calculations!Q10 -> 0 | R39: =Calculations!O10 -> 0.0080212484 | S39: =Calculations!R10 -> 0.91457348 | T39: Permitted subject to consultation with LPA / LLFA | U39: Recommendation E
B40: =Calculations!A11 -> EPT/0035 | C40: =Calculations!B11 -> Land at Cloister Way, Ellesmere Port | D40: =Calculations!C11 -> Employment (Stanlow) | E40: =Calculations!D11 -> 1.04186 | F40: =Calculations!H11 -> 1.04186 | G40: =Calculations!L11 -> 100 | H40: =Calculations!G11 -> 0 | I40: =Calculations!K11 -> 0 | J40: =Calculations!F11 -> 0 | K40: =Calculations!J11 -> 0 | L40: =Calculations!E11 -> 0 | M40: =Calculations!I11 -> 0 | N40: =Calculations!M11 -> 0 | O40: =Calculations!P11 -> 0 | P40: =Calculations!N11 -> 0 | Q40: =Calculations!Q11 -> 0 | R40: =Calculations!O11 -> 0 | S40: =Calculations!R11 -> 0 | T40: Permitted subject to consultation with LPA / LLFA | U40: Recommendation E
B41: =Calculations!A12 -> EPT/0108 | C41: =Calculations!B12 -> Land off Stanney Mill Road North, Ellesmere Port | D41: =Calculations!C12 -> Employment | E41: =Calculations!D12 -> 0.949773 | F41: =Calculations!H12 -> 0.949773 | G41: =Calculations!L12 -> 100 | H41: =Calculations!G12 -> 0 | I41: =Calculations!K12 -> 0 | J41: =Calculations!F12 -> 0 | K41: =Calculations!J12 -> 0 | L41: =Calculations!E12 -> 0 | M41: =Calculations!I12 -> 0 | N41: =Calculations!M12 -> 0.0136 | O41: =Calculations!P12 -> 1.4319211 | P41: =Calculations!N12 -> 0.038 | Q41: =Calculations!Q12 -> 4.000956 | R41: =Calculations!O12 -> 0.08 | S41: =Calculations!R12 -> 8.4230653 | T41: Permitted subject to consultation with LPA / LLFA | U41: Recommendation E
B42: =Calculations!A13 -> FAR/0061 | C42: =Calculations!B13 -> Land at Church Road, Tilston | D42: =Calculations!C13 -> Residential | E42: =Calculations!D13 -> 1.03182 | F42: =Calculations!H13 -> 1.03182 | G42: =Calculations!L13 -> 100 | H42: =Calculations!G13 -> 0 | I42: =Calculations!K13 -> 0 | J42: =Calculations!F13 -> 0 | K42: =Calculations!J13 -> 0 | L42: =Calculations!E13 -> 0 | M42: =Calculations!I13 -> 0 | N42: =Calculations!M13 -> 0 | O42: =Calculations!P13 -> 0 | P42: =Calculations!N13 -> 0.031118338 | Q42: =Calculations!Q13 -> 3.0158689 | R42: =Calculations!O13 -> 0.034226996 | S42: =Calculations!R13 -> 3.3171479 | T42: Permitted subject to consultation with LPA / LLFA | U42: Recommendation E
... B50: =Calculations!A21 -> KIN/0018 | C50: =Calculations!B21 -> Haulage Yard, High Street, Norley | D50: =Calculations!C21 -> Both | E50: =Calculations!D21 -> 0.499868 | F50: =Calculations!H21 -> 0.499868 | G50: =Calculations!L21 -> 100 | H50: =Calculations!G21 -> 0 | I50: =Calculations!K21 -> 0 | J50: =Calculations!F21 -> 0 | K50: =Calculations!J21 -> 0 | L50: =Calculations!E21 -> 0 | M50: =Calculations!I21 -> 0 | N50: =Calculations!M21 -> 0 | O50: =Calculations!P21 -> 0 | P50: =Calculations!N21 -> 0 | Q50: =Calculations!Q21 -> 0 | R50: =Calculations!O21 -> 0 | S50: =Calculations!R21 -> 0 | T50: Permitted subject to consultation with LPA / LLFA | U50: Recommendation E
B51: =Calculations!A22 -> KIN/0070 | C51: =Calculations!B22 -> Club House, Kingsley Cricket Club, Brook House Farm and Mill Brook Bungalow, Mill Lane, Kingsley | D51: =Calculations!C22 -> Unknown | E51: =Calculations!D22 -> 3.48895 | F51: =Calculations!H22 -> 3.0197024 | G51: =Calculations!L22 -> 86.550463 | H51: =Calculations!G22 -> 0.040637128 | I51: =Calculations!K22 -> 1.164738 | J51: =Calculations!F22 -> 0.4286105 | K51: =Calculations!J22 -> 12.284799 | L51: =Calculations!E22 -> 0 | M51: =Calculations!I22 -> 0 | N51: =Calculations!M22 -> 0.087447456 | O51: =Calculations!P22 -> 2.5064118 | P51: =Calculations!N22 -> 0.076970626 | Q51: =Calculations!Q22 -> 2.2061258 | R51: =Calculations!O22 -> 0.12464682 | S51: =Calculations!R22 -> 3.5726171
B52: =Calculations!A23 -> MAL/0018 | C52: =Calculations!B23 -> Greenfields, Chester Road, Malpas | D52: =Calculations!C23 -> Unknown | E52: =Calculations!D23 -> 0.119176 | F52: =Calculations!H23 -> 0.119176 | G52: =Calculations!L23 -> 100 | H52: =Calculations!G23 -> 0 | I52: =Calculations!K23 -> 0 | J52: =Calculations!F23 -> 0 | K52: =Calculations!J23 -> 0 | L52: =Calculations!E23 -> 0 | M52: =Calculations!I23 -> 0 | N52: =Calculations!M23 -> 0 | O52: =Calculations!P23 -> 0 | P52: =Calculations!N23 -> 0 | Q52: =Calculations!Q23 -> 0 | R52: =Calculations!O23 -> 0 | S52: =Calculations!R23 -> 0 | T52: Permitted subject to consultation with LPA / LLFA | U52: Recommendation E
B53: =Calculations!A24 -> MAL/0117 | C53: =Calculations!B24 -> Bickley Community Project (Cholmondeley Estate) | D53: =Calculations!C24 -> Mixed Use | E53: =Calculations!D24 -> 7.75443 | F53: =Calculations!H24 -> 7.75443 | G53: =Calculations!L24 -> 100 | H53: =Calculations!G24 -> 0 | I53: =Calculations!K24 -> 0 | J53: =Calculations!F24 -> 0 | K53: =Calculations!J24 -> 0 | L53: =Calculations!E24 -> 0 | M53: =Calculations!I24 -> 0 | N53: =Calculations!M24 -> 0.0128 | O53: =Calculations!P24 -> 0.16506694 | P53: =Calculations!N24 -> 0.0089751234 | Q53: =Calculations!Q24 -> 0.11574188 | R53: =Calculations!O24 -> 0.11827224 | S53: =Calculations!R24 -> 1.5252215 | T53: Permitted subject to consultation with LPA / LLFA | U53: Recommendation E
...

Sheet Calculations
A1: SiteRef | B1: Name | C1: Proposed_Use | D1: Area_Ha | E1: FZ3b_Area | F1: FZ3a_Area | G1: FZ2_Area | H1: FZ1_Area | I1: FZ3b_pct | J1: FZ3a_pct | K1: FZ2_pct | L1: FZ1 | M1: uFMfSW30yr_Area | N1: uFMfSW100yr_Area | O1: uFMfSW1000yr_Area | P1: uFMfSW30yr_pct | Q1: uFMfSW100yr_pct | R1: uFMfSW1000yr_pct
A2: CHC/0004 | B2: Black Diamond Street and Hoole Way, Chester | C2: Residential | D2: 0.296622 | E2: 0 | F2: 0 | G2: 0 | H2: =D2-E2-F2-G2 -> 0.296622 | I2: =E2/D2*100 -> 0 | J2: =F2/D2*100 -> 0 | K2: =G2/D2*100 -> 0 | L2: =H2/D2*100 -> 100 | M2: 0.024 | N2: 0.0132 | O2: 0.090644141 | P2: =M2/D2*100 -> 8.0911059 | Q2: =N2/D2*100 -> 4.4501082 | R2: =O2/D2*100 -> 30.558806
A3: CHV/0009 | B3: Land off Pepper Street, bound by Shropshire Union Canal / Faulkners Lane, Christleton | C3: Residential | D3: 3.91958 | E3: 0 | F3: 0 | G3: 0 | H3: =D3-E3-F3-G3 -> 3.91958 | I3: =E3/D3*100 -> 0 | J3: =F3/D3*100 -> 0 | K3: =G3/D3*100 -> 0 | L3: =H3/D3*100 -> 100 | M3: 0.0080077976 | N3: 0.017120823 | O3: 0.0173905 | P3: =M3/D3*100 -> 0.20430244 | Q3: =N3/D3*100 -> 0.43680248 | R3: =O3/D3*100 -> 0.44368275
A4: CHV/0018 | B4: Land to north of School Lane, adjacent Newhall Rise, Guilden Sutton | C4: Residential | D4: 2.25941 | E4: 0 | F4: 0 | G4: 0 | H4: =D4-E4-F4-G4 -> 2.25941 | I4: =E4/D4*100 -> 0 | J4: =F4/D4*100 -> 0 | K4: =G4/D4*100 -> 0 | L4: =H4/D4*100 -> 100 | M4: 0 | N4: 0 | O4: 0 | P4: =M4/D4*100 -> 0 | Q4: =N4/D4*100 -> 0 | R4: =O4/D4*100 -> 0
A5: CHV/0117 | B5: Land to north of School Lane, adjacent Newhall Rise, Guilden Sutton | C5: Residential | D5: 3.86165 | E5: 0 | F5: 0 | G5: 0 | H5: =D5-E5-F5-G5 -> 3.86165 | I5: =E5/D5*100 -> 0 | J5: =F5/D5*100 -> 0 | K5: =G5/D5*100 -> 0 | L5: =H5/D5*100 -> 100 | M5: 0.0032402692 | N5: 0.00079966657 | O5: 0.0046055105 | P5: =M5/D5*100 -> 0.08390893 | Q5: =N5/D5*100 -> 0.020707899 | R5: =O5/D5*100 -> 0.11926276
A6: DAM/0058 | B6: Land to the south of A556, Rudheath, Northwich (south west Gadbrook Park) | C6: Employment | D6: 35.1506 | E6: 0 | F6: 1.3913071 | G6: 0.34691745 | H6: =D6-E6-F6-G6 -> 33.412375 | I6: =E6/D6*100 -> 0 | J6: =F6/D6*100 -> 3.9581317 | K6: =G6/D6*100 -> 0.98694602 | L6: =H6/D6*100 -> 95.054922 | M6: 1.6922689 | N6: 0.66756528 | O6: 1.8939592 | P6: =M6/D6*100 -> 4.8143387 | Q6: =N6/D6*100 -> 1.8991576 | R6: =O6/D6*100 -> 5.3881277
A7: DAM/0070 | B7: Land off Niddries Lane, Moulton | C7: Residential | D7: 5.38536 | E7: 0 | F7: 0 | G7: 0 | H7: =D7-E7-F7-G7 -> 5.38536 | I7: =E7/D7*100 -> 0 | J7: =F7/D7*100 -> 0 | K7: =G7/D7*100 -> 0 | L7: =H7/D7*100 -> 100 | M7: 0.2668815 | N7: 0.19566386 | O7: 0.64364984 | P7: =M7/D7*100 -> 4.9556854 | Q7: =N7/D7*100 -> 3.6332549 | R7: =O7/D7*100 -> 11.951844
A8: DAM/0071 | B8: Land to the west of Bostock Green and east of A533. | C8: Employment | D8: 15.2526 | E8: 0 | F8: 0 | G8: 0 | H8: =D8-E8-F8-G8 -> 15.2526 | I8: =E8/D8*100 -> 0 | J8: =F8/D8*100 -> 0 | K8: =G8/D8*100 -> 0 | L8: =H8/D8*100 -> 100 | M8: 0.30078817 | N8: 0.20025142 | O8: 0.81579006 | P8: =M8/D8*100 -> 1.9720452 | Q8: =N8/D8*100 -> 1.3129002 | R8: =O8/D8*100 -> 5.3485311
A9: DAM/0072 | B9: Land at 618 London Road, Davenham | C9: Residential | D9: 2.21092 | E9: 0 | F9: 0 | G9: 0 | H9: =D9-E9-F9-G9 -> 2.21092 | I9: =E9/D9*100 -> 0 | J9: =F9/D9*100 -> 0 | K9: =G9/D9*100 -> 0 | L9: =H9/D9*100 -> 100 | M9: 0 | N9: 0 | O9: 0 | P9: =M9/D9*100 -> 0 | Q9: =N9/D9*100 -> 0 | R9: =O9/D9*100 -> 0
A10: EPT/0028 | B10: Rushtons, Newbridge Road, Ellesmere Port | C10: Employment (Stanlow) | D10: 0.877048 | E10: 0 | F10: 0 | G10: 0 | H10: =D10-E10-F10-G10 -> 0.877048 | I10: =E10/D10*100 -> 0 | J10: =F10/D10*100 -> 0 | K10: =G10/D10*100 -> 0 | L10: =H10/D10*100 -> 100 | M10: 0 | N10: 0 | O10: 0.0080212484 | P10: =M10/D10*100 -> 0 | Q10: =N10/D10*100 -> 0 | R10: =O10/D10*100 -> 0.91457348
A11: EPT/0035 | B11: Land at Cloister Way, Ellesmere Port | C11: Employment (Stanlow) | D11: 1.04186 | E11: 0 | F11: 0 | G11: 0 | H11: =D11-E11-F11-G11 -> 1.04186 | I11: =E11/D11*100 -> 0 | J11: =F11/D11*100 -> 0 | K11: =G11/D11*100 -> 0 | L11: =H11/D11*100 -> 100 | M11: 0 | N11: 0 | O11: 0 | P11: =M11/D11*100 -> 0 | Q11: =N11/D11*100 -> 0 | R11: =O11/D11*100 -> 0
A12: EPT/0108 | B12: Land off Stanney Mill Road North, Ellesmere Port | C12: Employment | D12: 0.949773 | E12: 0 | F12: 0 | G12: 0 | H12: =D12-E12-F12-G12 -> 0.949773 | I12: =E12/D12*100 -> 0 | J12: =F12/D12*100 -> 0 | K12: =G12/D12*100 -> 0 | L12: =H12/D12*100 -> 100 | M12: 0.0136 | N12: 0.038 | O12: 0.08 | P12: =M12/D12*100 -> 1.4319211 | Q12: =N12/D12*100 -> 4.000956 | R12: =O12/D12*100 -> 8.4230653
A13: FAR/0061 | B13: Land at Church Road, Tilston | C13: Residential | D13: 1.03182 | E13: 0 | F13: 0 | G13: 0 | H13: =D13-E13-F13-G13 -> 1.03182 | I13: =E13/D13*100 -> 0 | J13: =F13/D13*100 -> 0 | K13: =G13/D13*100 -> 0 | L13: =H13/D13*100 -> 100 | M13: 0 | N13: 0.031118338 | O13: 0.034226996 | P13: =M13/D13*100 -> 0 | Q13: =N13/D13*100 -> 3.0158689 | R13: =O13/D13*100 -> 3.3171479
... A71: T2.B.3 | B71: Option 2 - Landowner submitted site boundary | C71: Car parking | D71: 15.4904 | E71: 0 | F71: 0 | G71: 0 | H71: =D71-E71-F71-G71 -> 15.4904 | I71: =E71/D71*100 -> 0 | J71: =F71/D71*100 -> 0 | K71: =G71/D71*100 -> 0 | L71: =H71/D71*100 -> 100 | M71: 0.13880676 | N71: 0.1010514 | O71: 0.46774686 | P71: =M71/D71*100 -> 0.8960825 | Q71: =N71/D71*100 -> 0.65234858 | R71: =O71/D71*100 -> 3.0195919
